BEGIN:VCALENDAR
VERSION:2.0
PRODID:-//Episcopal Church of the Ascension - ECPv6.15.20//NONSGML v1.0//EN
CALSCALE:GREGORIAN
METHOD:PUBLISH
X-WR-CALNAME:Episcopal Church of the Ascension
X-ORIGINAL-URL:https://ascensioncartersville.org
X-WR-CALDESC:Events for Episcopal Church of the Ascension
REFRESH-INTERVAL;VALUE=DURATION:PT1H
X-Robots-Tag:noindex
X-PUBLISHED-TTL:PT1H
BEGIN:VTIMEZONE
TZID:America/New_York
BEGIN:DAYLIGHT
TZOFFSETFROM:-0500
TZOFFSETTO:-0400
TZNAME:EDT
DTSTART:20230312T070000
END:DAYLIGHT
BEGIN:STANDARD
TZOFFSETFROM:-0400
TZOFFSETTO:-0500
TZNAME:EST
DTSTART:20231105T060000
END:STANDARD
BEGIN:DAYLIGHT
TZOFFSETFROM:-0500
TZOFFSETTO:-0400
TZNAME:EDT
DTSTART:20240310T070000
END:DAYLIGHT
BEGIN:STANDARD
TZOFFSETFROM:-0400
TZOFFSETTO:-0500
TZNAME:EST
DTSTART:20241103T060000
END:STANDARD
BEGIN:DAYLIGHT
TZOFFSETFROM:-0500
TZOFFSETTO:-0400
TZNAME:EDT
DTSTART:20250309T070000
END:DAYLIGHT
BEGIN:STANDARD
TZOFFSETFROM:-0400
TZOFFSETTO:-0500
TZNAME:EST
DTSTART:20251102T060000
END:STANDARD
END:VTIMEZONE
BEGIN:VEVENT
DTSTART;TZID=America/New_York:20240317T074500
DTEND;TZID=America/New_York:20240317T084500
DTSTAMP:20260421T053033
CREATED:20231213T114653Z
LAST-MODIFIED:20231213T114653Z
UID:10003356-1710661500-1710665100@ascensioncartersville.org
SUMMARY:Holy Eucharist
DESCRIPTION:
URL:https://ascensioncartersville.org/calendar/holy-eucharist-12/
END:VEVENT
BEGIN:VEVENT
DTSTART;TZID=America/New_York:20240317T090000
DTEND;TZID=America/New_York:20240317T100000
DTSTAMP:20260421T053033
CREATED:20230726T144311Z
LAST-MODIFIED:20230726T144311Z
UID:10002892-1710666000-1710669600@ascensioncartersville.org
SUMMARY:Family Service
DESCRIPTION:
URL:https://ascensioncartersville.org/calendar/family-service-116/
END:VEVENT
BEGIN:VEVENT
DTSTART;TZID=America/New_York:20240317T090000
DTEND;TZID=America/New_York:20240317T100000
DTSTAMP:20260421T053033
CREATED:20231213T114653Z
LAST-MODIFIED:20231213T114653Z
UID:10003357-1710666000-1710669600@ascensioncartersville.org
SUMMARY:All ages Service
DESCRIPTION:
URL:https://ascensioncartersville.org/calendar/all-ages-service-11/
END:VEVENT
BEGIN:VEVENT
DTSTART;TZID=America/New_York:20240317T100000
DTEND;TZID=America/New_York:20240317T104500
DTSTAMP:20260421T053033
CREATED:20231015T173305Z
LAST-MODIFIED:20231015T173305Z
UID:10003245-1710669600-1710672300@ascensioncartersville.org
SUMMARY:Canterbury Choir Rehearsal
DESCRIPTION:
URL:https://ascensioncartersville.org/calendar/canterbury-choir-rehearsal-55/
END:VEVENT
BEGIN:VEVENT
DTSTART;TZID=America/New_York:20240317T100000
DTEND;TZID=America/New_York:20240317T110000
DTSTAMP:20260421T053033
CREATED:20230726T144311Z
LAST-MODIFIED:20230726T144311Z
UID:10002893-1710669600-1710673200@ascensioncartersville.org
SUMMARY:Christian Formation Hour
DESCRIPTION:
URL:https://ascensioncartersville.org/calendar/christian-formation-hour-116/
END:VEVENT
BEGIN:VEVENT
DTSTART;TZID=America/New_York:20240317T110000
DTEND;TZID=America/New_York:20240317T111500
DTSTAMP:20260421T053033
CREATED:20231018T181909Z
LAST-MODIFIED:20231018T181909Z
UID:10003249-1710673200-1710674100@ascensioncartersville.org
SUMMARY:St. Cecilia Choir Sings Prelude
DESCRIPTION:
URL:https://ascensioncartersville.org/calendar/st-cecilia-choir-sings-prelude/
END:VEVENT
BEGIN:VEVENT
DTSTART;TZID=America/New_York:20240317T110000
DTEND;TZID=America/New_York:20240317T120000
DTSTAMP:20260421T053033
CREATED:20231213T114653Z
LAST-MODIFIED:20231213T114653Z
UID:10003358-1710673200-1710676800@ascensioncartersville.org
SUMMARY:Holy Euacharist
DESCRIPTION:
URL:https://ascensioncartersville.org/calendar/holy-euacharist-11/
END:VEVENT
BEGIN:VEVENT
DTSTART;TZID=America/New_York:20240317T110000
DTEND;TZID=America/New_York:20240317T120000
DTSTAMP:20260421T053033
CREATED:20240106T153206Z
LAST-MODIFIED:20240106T153206Z
UID:10003412-1710673200-1710676800@ascensioncartersville.org
SUMMARY:Holy Eucharist
DESCRIPTION:
URL:https://ascensioncartersville.org/calendar/holy-eucharist-34/
END:VEVENT
END:VCALENDAR