BEGIN:VCALENDAR
VERSION:2.0
PRODID:-//Episcopal Church of the Ascension - ECPv6.15.20//NONSGML v1.0//EN
CALSCALE:GREGORIAN
METHOD:PUBLISH
X-ORIGINAL-URL:https://ascensioncartersville.org
X-WR-CALDESC:Events for Episcopal Church of the Ascension
REFRESH-INTERVAL;VALUE=DURATION:PT1H
X-Robots-Tag:noindex
X-PUBLISHED-TTL:PT1H
BEGIN:VTIMEZONE
TZID:America/New_York
BEGIN:DAYLIGHT
TZOFFSETFROM:-0500
TZOFFSETTO:-0400
TZNAME:EDT
DTSTART:20230312T070000
END:DAYLIGHT
BEGIN:STANDARD
TZOFFSETFROM:-0400
TZOFFSETTO:-0500
TZNAME:EST
DTSTART:20231105T060000
END:STANDARD
BEGIN:DAYLIGHT
TZOFFSETFROM:-0500
TZOFFSETTO:-0400
TZNAME:EDT
DTSTART:20240310T070000
END:DAYLIGHT
BEGIN:STANDARD
TZOFFSETFROM:-0400
TZOFFSETTO:-0500
TZNAME:EST
DTSTART:20241103T060000
END:STANDARD
BEGIN:DAYLIGHT
TZOFFSETFROM:-0500
TZOFFSETTO:-0400
TZNAME:EDT
DTSTART:20250309T070000
END:DAYLIGHT
BEGIN:STANDARD
TZOFFSETFROM:-0400
TZOFFSETTO:-0500
TZNAME:EST
DTSTART:20251102T060000
END:STANDARD
END:VTIMEZONE
BEGIN:VEVENT
DTSTART;TZID=America/New_York:20240327T090000
DTEND;TZID=America/New_York:20240327T110000
DTSTAMP:20260421T041357
CREATED:20230726T144313Z
LAST-MODIFIED:20230726T144313Z
UID:10002901-1711530000-1711537200@ascensioncartersville.org
SUMMARY:Red Door Food Pantry
DESCRIPTION:
URL:https://ascensioncartersville.org/calendar/red-door-food-pantry-273/
END:VEVENT
BEGIN:VEVENT
DTSTART;TZID=America/New_York:20240327T121500
DTEND;TZID=America/New_York:20240327T131500
DTSTAMP:20260421T041357
CREATED:20230726T144313Z
LAST-MODIFIED:20230726T144313Z
UID:10002902-1711541700-1711545300@ascensioncartersville.org
SUMMARY:Holy Eucharist with Healing
DESCRIPTION:
URL:https://ascensioncartersville.org/calendar/holy-eucharist-with-healing-138/
END:VEVENT
BEGIN:VEVENT
DTSTART;TZID=America/New_York:20240327T130000
DTEND;TZID=America/New_York:20240327T140000
DTSTAMP:20260421T041357
CREATED:20231026T194838Z
LAST-MODIFIED:20231026T194838Z
UID:10003266-1711544400-1711548000@ascensioncartersville.org
SUMMARY:Bible Study
DESCRIPTION:
URL:https://ascensioncartersville.org/calendar/bible-study-29/
END:VEVENT
BEGIN:VEVENT
DTSTART;TZID=America/New_York:20240327T170000
DTEND;TZID=America/New_York:20240327T174500
DTSTAMP:20260421T041357
CREATED:20231026T194838Z
LAST-MODIFIED:20231026T194838Z
UID:10003267-1711558800-1711561500@ascensioncartersville.org
SUMMARY:St. Cecilia Choir Rehearsal
DESCRIPTION:
URL:https://ascensioncartersville.org/calendar/st-cecilia-choir-rehearsal-29/
END:VEVENT
BEGIN:VEVENT
DTSTART;TZID=America/New_York:20240327T190000
DTEND;TZID=America/New_York:20240327T204500
DTSTAMP:20260421T041357
CREATED:20231026T194839Z
LAST-MODIFIED:20231026T194839Z
UID:10003268-1711566000-1711572300@ascensioncartersville.org
SUMMARY:Canterbury Choir Rehearsal
DESCRIPTION:
URL:https://ascensioncartersville.org/calendar/canterbury-choir-rehearsal-58/
END:VEVENT
END:VCALENDAR