BEGIN:VCALENDAR
VERSION:2.0
PRODID:-//Episcopal Church of the Ascension - ECPv6.15.20//NONSGML v1.0//EN
CALSCALE:GREGORIAN
METHOD:PUBLISH
X-WR-CALNAME:Episcopal Church of the Ascension
X-ORIGINAL-URL:https://ascensioncartersville.org
X-WR-CALDESC:Events for Episcopal Church of the Ascension
REFRESH-INTERVAL;VALUE=DURATION:PT1H
X-Robots-Tag:noindex
X-PUBLISHED-TTL:PT1H
BEGIN:VTIMEZONE
TZID:America/New_York
BEGIN:DAYLIGHT
TZOFFSETFROM:-0500
TZOFFSETTO:-0400
TZNAME:EDT
DTSTART:20240310T070000
END:DAYLIGHT
BEGIN:STANDARD
TZOFFSETFROM:-0400
TZOFFSETTO:-0500
TZNAME:EST
DTSTART:20241103T060000
END:STANDARD
BEGIN:DAYLIGHT
TZOFFSETFROM:-0500
TZOFFSETTO:-0400
TZNAME:EDT
DTSTART:20250309T070000
END:DAYLIGHT
BEGIN:STANDARD
TZOFFSETFROM:-0400
TZOFFSETTO:-0500
TZNAME:EST
DTSTART:20251102T060000
END:STANDARD
BEGIN:DAYLIGHT
TZOFFSETFROM:-0500
TZOFFSETTO:-0400
TZNAME:EDT
DTSTART:20260308T070000
END:DAYLIGHT
BEGIN:STANDARD
TZOFFSETFROM:-0400
TZOFFSETTO:-0500
TZNAME:EST
DTSTART:20261101T060000
END:STANDARD
END:VTIMEZONE
BEGIN:VEVENT
DTSTART;TZID=America/New_York:20251128T113000
DTEND;TZID=America/New_York:20251128T123000
DTSTAMP:20260425T113546
CREATED:20241215T184816Z
LAST-MODIFIED:20241215T184816Z
UID:10004251-1764329400-1764333000@ascensioncartersville.org
SUMMARY:Al-Anon Meeting
DESCRIPTION:Located in the Education room
URL:https://ascensioncartersville.org/calendar/al-anon-meeting-223/
END:VEVENT
BEGIN:VEVENT
DTSTART;TZID=America/New_York:20251127T103000
DTEND;TZID=America/New_York:20251127T120000
DTSTAMP:20260425T113546
CREATED:20250531T145928Z
LAST-MODIFIED:20250531T145928Z
UID:10004616-1764239400-1764244800@ascensioncartersville.org
SUMMARY:Women's Brunch
DESCRIPTION:
URL:https://ascensioncartersville.org/calendar/womens-brunch-8/
LOCATION:IHOP\, 640 E Main St\, Cartersville\, GA\, United States
GEO:34.171068;-84.783153
X-APPLE-STRUCTURED-LOCATION;VALUE=URI;X-ADDRESS=IHOP 640 E Main St Cartersville GA United States;X-APPLE-RADIUS=500;X-TITLE=640 E Main St:geo:-84.783153,34.171068
END:VEVENT
BEGIN:VEVENT
DTSTART;TZID=America/New_York:20251126T190000
DTEND;TZID=America/New_York:20251126T204500
DTSTAMP:20260425T113546
CREATED:20241214T183246Z
LAST-MODIFIED:20241214T183246Z
UID:10004250-1764183600-1764189900@ascensioncartersville.org
SUMMARY:Canterbury Choir Rehearsal
DESCRIPTION:
URL:https://ascensioncartersville.org/calendar/canterbury-choir-rehearsal-136/
END:VEVENT
BEGIN:VEVENT
DTSTART;TZID=America/New_York:20251126T121500
DTEND;TZID=America/New_York:20251126T131500
DTSTAMP:20260425T113546
CREATED:20250531T145928Z
LAST-MODIFIED:20250531T145928Z
UID:10004615-1764159300-1764162900@ascensioncartersville.org
SUMMARY:Midweek Service
DESCRIPTION:
URL:https://ascensioncartersville.org/calendar/midweek-service-33/
END:VEVENT
BEGIN:VEVENT
DTSTART;TZID=America/New_York:20251126T090000
DTEND;TZID=America/New_York:20251126T110000
DTSTAMP:20260425T113546
CREATED:20241214T183246Z
LAST-MODIFIED:20241214T183246Z
UID:10004249-1764147600-1764154800@ascensioncartersville.org
SUMMARY:Red Door Food Pantry
DESCRIPTION:
URL:https://ascensioncartersville.org/calendar/red-door-food-pantry-449/
END:VEVENT
BEGIN:VEVENT
DTSTART;TZID=America/New_York:20251125T170000
DTEND;TZID=America/New_York:20251125T190000
DTSTAMP:20260425T113546
CREATED:20241214T183245Z
LAST-MODIFIED:20241214T183245Z
UID:10004248-1764090000-1764097200@ascensioncartersville.org
SUMMARY:Red Door Food Pantry
DESCRIPTION:
URL:https://ascensioncartersville.org/calendar/red-door-food-pantry-448/
END:VEVENT
BEGIN:VEVENT
DTSTART;VALUE=DATE:20251124
DTEND;VALUE=DATE:20251129
DTSTAMP:20260425T113546
CREATED:20250531T145928Z
LAST-MODIFIED:20250531T145928Z
UID:10004617-1763942400-1764374399@ascensioncartersville.org
SUMMARY:City Schools Thanksgiving Break
DESCRIPTION:
URL:https://ascensioncartersville.org/calendar/city-schools-thanksgiving-break/
END:VEVENT
BEGIN:VEVENT
DTSTART;TZID=America/New_York:20251123T110000
DTEND;TZID=America/New_York:20251123T120000
DTSTAMP:20260425T113546
CREATED:20250531T145927Z
LAST-MODIFIED:20250531T145927Z
UID:10004614-1763895600-1763899200@ascensioncartersville.org
SUMMARY:Holy Eucharist
DESCRIPTION:
URL:https://ascensioncartersville.org/calendar/holy-eucharist-251/
END:VEVENT
BEGIN:VEVENT
DTSTART;TZID=America/New_York:20251123T100000
DTEND;TZID=America/New_York:20251123T104500
DTSTAMP:20260425T113546
CREATED:20250531T145927Z
LAST-MODIFIED:20250531T145927Z
UID:10004612-1763892000-1763894700@ascensioncartersville.org
SUMMARY:Membership class
DESCRIPTION:
URL:https://ascensioncartersville.org/calendar/membership-class-3/
END:VEVENT
BEGIN:VEVENT
DTSTART;TZID=America/New_York:20251123T100000
DTEND;TZID=America/New_York:20251123T104500
DTSTAMP:20260425T113546
CREATED:20250531T145927Z
LAST-MODIFIED:20250531T145927Z
UID:10004613-1763892000-1763894700@ascensioncartersville.org
SUMMARY:Christian Formation -All Ages
DESCRIPTION:
URL:https://ascensioncartersville.org/calendar/christian-formation-all-ages-32/
END:VEVENT
BEGIN:VEVENT
DTSTART;TZID=America/New_York:20251123T090000
DTEND;TZID=America/New_York:20251123T100000
DTSTAMP:20260425T113546
CREATED:20250531T145927Z
LAST-MODIFIED:20250531T145927Z
UID:10004611-1763888400-1763892000@ascensioncartersville.org
SUMMARY:All Ages Service
DESCRIPTION:
URL:https://ascensioncartersville.org/calendar/all-ages-service-133/
END:VEVENT
BEGIN:VEVENT
DTSTART;TZID=America/New_York:20251123T074500
DTEND;TZID=America/New_York:20251123T084500
DTSTAMP:20260425T113546
CREATED:20241213T183139Z
LAST-MODIFIED:20241213T183139Z
UID:10004247-1763883900-1763887500@ascensioncartersville.org
SUMMARY:Holy Eucharist
DESCRIPTION:
URL:https://ascensioncartersville.org/calendar/holy-eucharist-194/
END:VEVENT
BEGIN:VEVENT
DTSTART;TZID=America/New_York:20251122T090000
DTEND;TZID=America/New_York:20251122T110000
DTSTAMP:20260425T113546
CREATED:20250531T145927Z
LAST-MODIFIED:20250531T145927Z
UID:10004610-1763802000-1763809200@ascensioncartersville.org
SUMMARY:Brotherhood of St. Andrew
DESCRIPTION:
URL:https://ascensioncartersville.org/calendar/brotherhood-of-st-andrew-13/
END:VEVENT
BEGIN:VEVENT
DTSTART;TZID=America/New_York:20251121T113000
DTEND;TZID=America/New_York:20251121T123000
DTSTAMP:20260425T113546
CREATED:20241213T183138Z
LAST-MODIFIED:20241213T183138Z
UID:10004246-1763724600-1763728200@ascensioncartersville.org
SUMMARY:Al-Anon Meeting
DESCRIPTION:Located in the Education room
URL:https://ascensioncartersville.org/calendar/al-anon-meeting-222/
END:VEVENT
BEGIN:VEVENT
DTSTART;TZID=America/New_York:20251120T180000
DTEND;TZID=America/New_York:20251120T193000
DTSTAMP:20260425T113546
CREATED:20250531T145926Z
LAST-MODIFIED:20250531T145926Z
UID:10004609-1763661600-1763667000@ascensioncartersville.org
SUMMARY:Vestry Meeting
DESCRIPTION:
URL:https://ascensioncartersville.org/calendar/vestry-meeting-33/
END:VEVENT
BEGIN:VEVENT
DTSTART;TZID=America/New_York:20251119T190000
DTEND;TZID=America/New_York:20251119T204500
DTSTAMP:20260425T113546
CREATED:20241212T183254Z
LAST-MODIFIED:20241212T183254Z
UID:10004245-1763578800-1763585100@ascensioncartersville.org
SUMMARY:Canterbury Choir Rehearsal
DESCRIPTION:
URL:https://ascensioncartersville.org/calendar/canterbury-choir-rehearsal-135/
END:VEVENT
BEGIN:VEVENT
DTSTART;TZID=America/New_York:20251119T170000
DTEND;TZID=America/New_York:20251119T174500
DTSTAMP:20260425T113546
CREATED:20250531T145926Z
LAST-MODIFIED:20250531T145926Z
UID:10004608-1763571600-1763574300@ascensioncartersville.org
SUMMARY:St. Cecilia Choir
DESCRIPTION:
URL:https://ascensioncartersville.org/calendar/st-cecilia-choir-25/
END:VEVENT
BEGIN:VEVENT
DTSTART;TZID=America/New_York:20251119T130000
DTEND;TZID=America/New_York:20251119T140000
DTSTAMP:20260425T113546
CREATED:20241218T191819Z
LAST-MODIFIED:20241218T191819Z
UID:10004264-1763557200-1763560800@ascensioncartersville.org
SUMMARY:Pastoral Care Meeting
DESCRIPTION:In Ascension House Library
URL:https://ascensioncartersville.org/calendar/pastoral-care-meeting-92/
END:VEVENT
BEGIN:VEVENT
DTSTART;TZID=America/New_York:20251119T121500
DTEND;TZID=America/New_York:20251119T131500
DTSTAMP:20260425T113546
CREATED:20250531T145926Z
LAST-MODIFIED:20250531T145926Z
UID:10004607-1763554500-1763558100@ascensioncartersville.org
SUMMARY:Midweek Service
DESCRIPTION:
URL:https://ascensioncartersville.org/calendar/midweek-service-32/
END:VEVENT
BEGIN:VEVENT
DTSTART;TZID=America/New_York:20251119T090000
DTEND;TZID=America/New_York:20251119T110000
DTSTAMP:20260425T113546
CREATED:20241212T183253Z
LAST-MODIFIED:20241212T183253Z
UID:10004243-1763542800-1763550000@ascensioncartersville.org
SUMMARY:Red Door Food Pantry
DESCRIPTION:
URL:https://ascensioncartersville.org/calendar/red-door-food-pantry-447/
END:VEVENT
BEGIN:VEVENT
DTSTART;TZID=America/New_York:20251118T170000
DTEND;TZID=America/New_York:20251118T190000
DTSTAMP:20260425T113546
CREATED:20241211T181729Z
LAST-MODIFIED:20241211T181729Z
UID:10004242-1763485200-1763492400@ascensioncartersville.org
SUMMARY:Red Door Food Pantry
DESCRIPTION:
URL:https://ascensioncartersville.org/calendar/red-door-food-pantry-446/
END:VEVENT
BEGIN:VEVENT
DTSTART;TZID=America/New_York:20251116T110000
DTEND;TZID=America/New_York:20251116T120000
DTSTAMP:20260425T113546
CREATED:20250531T145926Z
LAST-MODIFIED:20250531T145926Z
UID:10004606-1763290800-1763294400@ascensioncartersville.org
SUMMARY:Holy Eucharist
DESCRIPTION:
URL:https://ascensioncartersville.org/calendar/holy-eucharist-250/
END:VEVENT
BEGIN:VEVENT
DTSTART;TZID=America/New_York:20251116T100000
DTEND;TZID=America/New_York:20251116T104500
DTSTAMP:20260425T113546
CREATED:20250531T145925Z
LAST-MODIFIED:20250531T145925Z
UID:10004604-1763287200-1763289900@ascensioncartersville.org
SUMMARY:Christian Formation -All Ages
DESCRIPTION:
URL:https://ascensioncartersville.org/calendar/christian-formation-all-ages-31/
END:VEVENT
BEGIN:VEVENT
DTSTART;TZID=America/New_York:20251116T090000
DTEND;TZID=America/New_York:20251116T100000
DTSTAMP:20260425T113546
CREATED:20250531T145925Z
LAST-MODIFIED:20250531T145925Z
UID:10004605-1763283600-1763287200@ascensioncartersville.org
SUMMARY:All Ages Service
DESCRIPTION:
URL:https://ascensioncartersville.org/calendar/all-ages-service-132/
END:VEVENT
BEGIN:VEVENT
DTSTART;TZID=America/New_York:20251116T074500
DTEND;TZID=America/New_York:20251116T084500
DTSTAMP:20260425T113546
CREATED:20241211T181729Z
LAST-MODIFIED:20241211T181729Z
UID:10004241-1763279100-1763282700@ascensioncartersville.org
SUMMARY:Holy Eucharist
DESCRIPTION:
URL:https://ascensioncartersville.org/calendar/holy-eucharist-193/
END:VEVENT
BEGIN:VEVENT
DTSTART;TZID=America/New_York:20251115T110000
DTEND;TZID=America/New_York:20251115T140000
DTSTAMP:20260425T113546
CREATED:20250531T145925Z
LAST-MODIFIED:20250531T145925Z
UID:10004603-1763204400-1763215200@ascensioncartersville.org
SUMMARY:Altar Guild Luncheon
DESCRIPTION:
URL:https://ascensioncartersville.org/calendar/altar-guild-luncheon/
END:VEVENT
BEGIN:VEVENT
DTSTART;TZID=America/New_York:20251114T190000
DTEND;TZID=America/New_York:20251114T210000
DTSTAMP:20260425T113546
CREATED:20250531T145925Z
LAST-MODIFIED:20250531T145925Z
UID:10004602-1763146800-1763154000@ascensioncartersville.org
SUMMARY:Ascension Coffee House
DESCRIPTION:
URL:https://ascensioncartersville.org/calendar/ascension-coffee-house-27/
END:VEVENT
BEGIN:VEVENT
DTSTART;TZID=America/New_York:20251114T113000
DTEND;TZID=America/New_York:20251114T123000
DTSTAMP:20260425T113546
CREATED:20241209T180156Z
LAST-MODIFIED:20241209T180156Z
UID:10004238-1763119800-1763123400@ascensioncartersville.org
SUMMARY:Al-Anon Meeting
DESCRIPTION:Located in the Education room
URL:https://ascensioncartersville.org/calendar/al-anon-meeting-221/
END:VEVENT
BEGIN:VEVENT
DTSTART;TZID=America/New_York:20251112T190000
DTEND;TZID=America/New_York:20251112T204500
DTSTAMP:20260425T113546
CREATED:20241208T180135Z
LAST-MODIFIED:20241208T180135Z
UID:10004237-1762974000-1762980300@ascensioncartersville.org
SUMMARY:Canterbury Choir Rehearsal
DESCRIPTION:
URL:https://ascensioncartersville.org/calendar/canterbury-choir-rehearsal-134/
END:VEVENT
BEGIN:VEVENT
DTSTART;TZID=America/New_York:20251112T170000
DTEND;TZID=America/New_York:20251112T174500
DTSTAMP:20260425T113546
CREATED:20250529T143308Z
LAST-MODIFIED:20250529T143308Z
UID:10004601-1762966800-1762969500@ascensioncartersville.org
SUMMARY:St. Cecilia Choir
DESCRIPTION:
URL:https://ascensioncartersville.org/calendar/st-cecilia-choir-24/
END:VEVENT
END:VCALENDAR