BEGIN:VCALENDAR
VERSION:2.0
PRODID:-//Episcopal Church of the Ascension - ECPv6.15.20//NONSGML v1.0//EN
CALSCALE:GREGORIAN
METHOD:PUBLISH
X-WR-CALNAME:Episcopal Church of the Ascension
X-ORIGINAL-URL:https://ascensioncartersville.org
X-WR-CALDESC:Events for Episcopal Church of the Ascension
REFRESH-INTERVAL;VALUE=DURATION:PT1H
X-Robots-Tag:noindex
X-PUBLISHED-TTL:PT1H
BEGIN:VTIMEZONE
TZID:America/New_York
BEGIN:DAYLIGHT
TZOFFSETFROM:-0500
TZOFFSETTO:-0400
TZNAME:EDT
DTSTART:20240310T070000
END:DAYLIGHT
BEGIN:STANDARD
TZOFFSETFROM:-0400
TZOFFSETTO:-0500
TZNAME:EST
DTSTART:20241103T060000
END:STANDARD
BEGIN:DAYLIGHT
TZOFFSETFROM:-0500
TZOFFSETTO:-0400
TZNAME:EDT
DTSTART:20250309T070000
END:DAYLIGHT
BEGIN:STANDARD
TZOFFSETFROM:-0400
TZOFFSETTO:-0500
TZNAME:EST
DTSTART:20251102T060000
END:STANDARD
BEGIN:DAYLIGHT
TZOFFSETFROM:-0500
TZOFFSETTO:-0400
TZNAME:EDT
DTSTART:20260308T070000
END:DAYLIGHT
BEGIN:STANDARD
TZOFFSETFROM:-0400
TZOFFSETTO:-0500
TZNAME:EST
DTSTART:20261101T060000
END:STANDARD
END:VTIMEZONE
BEGIN:VEVENT
DTSTART;TZID=America/New_York:20251212T190000
DTEND;TZID=America/New_York:20251212T210000
DTSTAMP:20260425T193631
CREATED:20250604T153339Z
LAST-MODIFIED:20250604T153339Z
UID:10004638-1765566000-1765573200@ascensioncartersville.org
SUMMARY:Ascension Coffee House
DESCRIPTION:
URL:https://ascensioncartersville.org/calendar/ascension-coffee-house-28/
END:VEVENT
BEGIN:VEVENT
DTSTART;TZID=America/New_York:20251212T113000
DTEND;TZID=America/New_York:20251212T123000
DTSTAMP:20260425T193631
CREATED:20250604T153339Z
LAST-MODIFIED:20250604T153339Z
UID:10004637-1765539000-1765542600@ascensioncartersville.org
SUMMARY:Al-Anon Meeting
DESCRIPTION:Located in the Education room
URL:https://ascensioncartersville.org/calendar/al-anon-meeting-225/
END:VEVENT
BEGIN:VEVENT
DTSTART;TZID=America/New_York:20251211T100000
DTEND;TZID=America/New_York:20251211T220000
DTSTAMP:20260425T193631
CREATED:20250602T151550Z
LAST-MODIFIED:20250602T151550Z
UID:10004636-1765447200-1765490400@ascensioncartersville.org
SUMMARY:Christian Women's Club Party
DESCRIPTION:
URL:https://ascensioncartersville.org/calendar/christian-womens-club-party/
END:VEVENT
BEGIN:VEVENT
DTSTART;TZID=America/New_York:20251210T170000
DTEND;TZID=America/New_York:20251210T174500
DTSTAMP:20260425T193631
CREATED:20250602T151549Z
LAST-MODIFIED:20250602T151549Z
UID:10004635-1765386000-1765388700@ascensioncartersville.org
SUMMARY:St. Cecilia Choir
DESCRIPTION:
URL:https://ascensioncartersville.org/calendar/st-cecilia-choir-27/
END:VEVENT
BEGIN:VEVENT
DTSTART;TZID=America/New_York:20251210T121500
DTEND;TZID=America/New_York:20251210T131500
DTSTAMP:20260425T193631
CREATED:20250601T150412Z
LAST-MODIFIED:20250601T150412Z
UID:10004634-1765368900-1765372500@ascensioncartersville.org
SUMMARY:Midweek Service
DESCRIPTION:
URL:https://ascensioncartersville.org/calendar/midweek-service-35/
END:VEVENT
BEGIN:VEVENT
DTSTART;TZID=America/New_York:20251210T090000
DTEND;TZID=America/New_York:20251210T110000
DTSTAMP:20260425T193631
CREATED:20250601T150411Z
LAST-MODIFIED:20250601T150411Z
UID:10004633-1765357200-1765364400@ascensioncartersville.org
SUMMARY:Red Door Food Pantry
DESCRIPTION:
URL:https://ascensioncartersville.org/calendar/red-door-food-pantry-453/
END:VEVENT
BEGIN:VEVENT
DTSTART;TZID=America/New_York:20251209T170000
DTEND;TZID=America/New_York:20251209T190000
DTSTAMP:20260425T193631
CREATED:20250531T145931Z
LAST-MODIFIED:20250531T145931Z
UID:10004632-1765299600-1765306800@ascensioncartersville.org
SUMMARY:Red Door Food Pantry
DESCRIPTION:
URL:https://ascensioncartersville.org/calendar/red-door-food-pantry-452/
END:VEVENT
BEGIN:VEVENT
DTSTART;TZID=America/New_York:20251209T110000
DTEND;TZID=America/New_York:20251209T120000
DTSTAMP:20260425T193631
CREATED:20250531T145931Z
LAST-MODIFIED:20250531T145931Z
UID:10004631-1765278000-1765281600@ascensioncartersville.org
SUMMARY:"Connect" Meeting
DESCRIPTION:
URL:https://ascensioncartersville.org/calendar/connect-meeting-12/
END:VEVENT
BEGIN:VEVENT
DTSTART;TZID=America/New_York:20251207T110000
DTEND;TZID=America/New_York:20251207T120000
DTSTAMP:20260425T193631
CREATED:20250531T145931Z
LAST-MODIFIED:20250531T145931Z
UID:10004629-1765105200-1765108800@ascensioncartersville.org
SUMMARY:Holy Eucharist
DESCRIPTION:
URL:https://ascensioncartersville.org/calendar/holy-eucharist-254/
END:VEVENT
BEGIN:VEVENT
DTSTART;TZID=America/New_York:20251207T100000
DTEND;TZID=America/New_York:20251207T110000
DTSTAMP:20260425T193631
CREATED:20250531T145931Z
LAST-MODIFIED:20250531T145931Z
UID:10004630-1765101600-1765105200@ascensioncartersville.org
SUMMARY:Christmas Pageant Practice
DESCRIPTION:
URL:https://ascensioncartersville.org/calendar/christmas-pageant-practice/
END:VEVENT
BEGIN:VEVENT
DTSTART;TZID=America/New_York:20251207T100000
DTEND;TZID=America/New_York:20251207T104500
DTSTAMP:20260425T193631
CREATED:20250531T145930Z
LAST-MODIFIED:20250531T145930Z
UID:10004627-1765101600-1765104300@ascensioncartersville.org
SUMMARY:Christian Formation -Adults only
DESCRIPTION:
URL:https://ascensioncartersville.org/calendar/christian-formation-adults-only/
END:VEVENT
BEGIN:VEVENT
DTSTART;TZID=America/New_York:20251207T090000
DTEND;TZID=America/New_York:20251207T100000
DTSTAMP:20260425T193631
CREATED:20250531T145931Z
LAST-MODIFIED:20250531T145931Z
UID:10004628-1765098000-1765101600@ascensioncartersville.org
SUMMARY:All Ages Service
DESCRIPTION:
URL:https://ascensioncartersville.org/calendar/all-ages-service-135/
END:VEVENT
BEGIN:VEVENT
DTSTART;TZID=America/New_York:20251207T074500
DTEND;TZID=America/New_York:20251207T084500
DTSTAMP:20260425T193631
CREATED:20250531T145930Z
LAST-MODIFIED:20250531T145930Z
UID:10004626-1765093500-1765097100@ascensioncartersville.org
SUMMARY:Holy Eucharist
DESCRIPTION:
URL:https://ascensioncartersville.org/calendar/holy-eucharist-253/
END:VEVENT
BEGIN:VEVENT
DTSTART;TZID=America/New_York:20251206T140000
DTEND;TZID=America/New_York:20251206T170000
DTSTAMP:20260425T193631
CREATED:20250531T145930Z
LAST-MODIFIED:20250531T145930Z
UID:10004625-1765029600-1765040400@ascensioncartersville.org
SUMMARY:Advent  Tea
DESCRIPTION:
URL:https://ascensioncartersville.org/calendar/advent-tea-2/
END:VEVENT
BEGIN:VEVENT
DTSTART;TZID=America/New_York:20251206T100000
DTEND;TZID=America/New_York:20251206T120000
DTSTAMP:20260425T193631
CREATED:20250531T145929Z
LAST-MODIFIED:20250531T145929Z
UID:10004624-1765015200-1765022400@ascensioncartersville.org
SUMMARY:Advent Tea Set up
DESCRIPTION:
URL:https://ascensioncartersville.org/calendar/advent-tea-set-up-2/
END:VEVENT
BEGIN:VEVENT
DTSTART;TZID=America/New_York:20251205T113000
DTEND;TZID=America/New_York:20251205T123000
DTSTAMP:20260425T193631
CREATED:20241219T191426Z
LAST-MODIFIED:20241219T191426Z
UID:10004269-1764934200-1764937800@ascensioncartersville.org
SUMMARY:Al-Anon Meeting
DESCRIPTION:Located in the Education room
URL:https://ascensioncartersville.org/calendar/al-anon-meeting-224/
END:VEVENT
BEGIN:VEVENT
DTSTART;TZID=America/New_York:20251204T180000
DTEND;TZID=America/New_York:20251204T193000
DTSTAMP:20260425T193631
CREATED:20241218T191820Z
LAST-MODIFIED:20241218T191820Z
UID:10004267-1764871200-1764876600@ascensioncartersville.org
SUMMARY:Christian Formation Meeting
DESCRIPTION:
URL:https://ascensioncartersville.org/calendar/christian-formation-meeting-30/
END:VEVENT
BEGIN:VEVENT
DTSTART;TZID=America/New_York:20251203T190000
DTEND;TZID=America/New_York:20251203T204500
DTSTAMP:20260425T193631
CREATED:20241218T191820Z
LAST-MODIFIED:20241218T191820Z
UID:10004266-1764788400-1764794700@ascensioncartersville.org
SUMMARY:Canterbury Choir Rehearsal
DESCRIPTION:
URL:https://ascensioncartersville.org/calendar/canterbury-choir-rehearsal-137/
END:VEVENT
BEGIN:VEVENT
DTSTART;TZID=America/New_York:20251203T170000
DTEND;TZID=America/New_York:20251203T174500
DTSTAMP:20260425T193631
CREATED:20250531T145929Z
LAST-MODIFIED:20250531T145929Z
UID:10004623-1764781200-1764783900@ascensioncartersville.org
SUMMARY:St. Cecilia Choir
DESCRIPTION:
URL:https://ascensioncartersville.org/calendar/st-cecilia-choir-26/
END:VEVENT
BEGIN:VEVENT
DTSTART;TZID=America/New_York:20251203T121500
DTEND;TZID=America/New_York:20251203T131500
DTSTAMP:20260425T193631
CREATED:20250531T145929Z
LAST-MODIFIED:20250531T145929Z
UID:10004622-1764764100-1764767700@ascensioncartersville.org
SUMMARY:Midweek Service
DESCRIPTION:
URL:https://ascensioncartersville.org/calendar/midweek-service-34/
END:VEVENT
BEGIN:VEVENT
DTSTART;TZID=America/New_York:20251203T090000
DTEND;TZID=America/New_York:20251203T110000
DTSTAMP:20260425T193631
CREATED:20241218T191820Z
LAST-MODIFIED:20241218T191820Z
UID:10004265-1764752400-1764759600@ascensioncartersville.org
SUMMARY:Red Door Food Pantry
DESCRIPTION:
URL:https://ascensioncartersville.org/calendar/red-door-food-pantry-451/
END:VEVENT
BEGIN:VEVENT
DTSTART;TZID=America/New_York:20251202T170000
DTEND;TZID=America/New_York:20251202T190000
DTSTAMP:20260425T193631
CREATED:20241216T190020Z
LAST-MODIFIED:20241216T190020Z
UID:10004253-1764694800-1764702000@ascensioncartersville.org
SUMMARY:Red Door Food Pantry
DESCRIPTION:
URL:https://ascensioncartersville.org/calendar/red-door-food-pantry-450/
END:VEVENT
BEGIN:VEVENT
DTSTART;TZID=America/New_York:20251130T121500
DTEND;TZID=America/New_York:20251130T131500
DTSTAMP:20260425T193631
CREATED:20250531T145929Z
LAST-MODIFIED:20250531T145929Z
UID:10004621-1764504900-1764508500@ascensioncartersville.org
SUMMARY:Mexican Potluck
DESCRIPTION:
URL:https://ascensioncartersville.org/calendar/mexican-potluck/
END:VEVENT
BEGIN:VEVENT
DTSTART;TZID=America/New_York:20251130T110000
DTEND;TZID=America/New_York:20251130T120000
DTSTAMP:20260425T193631
CREATED:20250531T145929Z
LAST-MODIFIED:20250531T145929Z
UID:10004620-1764500400-1764504000@ascensioncartersville.org
SUMMARY:Holy Eucharist
DESCRIPTION:
URL:https://ascensioncartersville.org/calendar/holy-eucharist-252/
END:VEVENT
BEGIN:VEVENT
DTSTART;TZID=America/New_York:20251130T100000
DTEND;TZID=America/New_York:20251130T110000
DTSTAMP:20260425T193631
CREATED:20250531T145928Z
LAST-MODIFIED:20250531T145928Z
UID:10004619-1764496800-1764500400@ascensioncartersville.org
SUMMARY:Advent Wreath Making- No CF classes
DESCRIPTION:
URL:https://ascensioncartersville.org/calendar/advent-wreath-making-no-cf-classes/
END:VEVENT
BEGIN:VEVENT
DTSTART;TZID=America/New_York:20251130T090000
DTEND;TZID=America/New_York:20251130T100000
DTSTAMP:20260425T193631
CREATED:20250531T145928Z
LAST-MODIFIED:20250531T145928Z
UID:10004618-1764493200-1764496800@ascensioncartersville.org
SUMMARY:All Ages Service
DESCRIPTION:
URL:https://ascensioncartersville.org/calendar/all-ages-service-134/
END:VEVENT
BEGIN:VEVENT
DTSTART;TZID=America/New_York:20251130T074500
DTEND;TZID=America/New_York:20251130T084500
DTSTAMP:20260425T193631
CREATED:20241216T190019Z
LAST-MODIFIED:20241216T190019Z
UID:10004252-1764488700-1764492300@ascensioncartersville.org
SUMMARY:Holy Eucharist
DESCRIPTION:
URL:https://ascensioncartersville.org/calendar/holy-eucharist-195/
END:VEVENT
BEGIN:VEVENT
DTSTART;TZID=America/New_York:20251128T113000
DTEND;TZID=America/New_York:20251128T123000
DTSTAMP:20260425T193631
CREATED:20241215T184816Z
LAST-MODIFIED:20241215T184816Z
UID:10004251-1764329400-1764333000@ascensioncartersville.org
SUMMARY:Al-Anon Meeting
DESCRIPTION:Located in the Education room
URL:https://ascensioncartersville.org/calendar/al-anon-meeting-223/
END:VEVENT
BEGIN:VEVENT
DTSTART;TZID=America/New_York:20251127T103000
DTEND;TZID=America/New_York:20251127T120000
DTSTAMP:20260425T193631
CREATED:20250531T145928Z
LAST-MODIFIED:20250531T145928Z
UID:10004616-1764239400-1764244800@ascensioncartersville.org
SUMMARY:Women's Brunch
DESCRIPTION:
URL:https://ascensioncartersville.org/calendar/womens-brunch-8/
LOCATION:IHOP\, 640 E Main St\, Cartersville\, GA\, United States
GEO:34.171068;-84.783153
X-APPLE-STRUCTURED-LOCATION;VALUE=URI;X-ADDRESS=IHOP 640 E Main St Cartersville GA United States;X-APPLE-RADIUS=500;X-TITLE=640 E Main St:geo:-84.783153,34.171068
END:VEVENT
BEGIN:VEVENT
DTSTART;TZID=America/New_York:20251126T190000
DTEND;TZID=America/New_York:20251126T204500
DTSTAMP:20260425T193631
CREATED:20241214T183246Z
LAST-MODIFIED:20241214T183246Z
UID:10004250-1764183600-1764189900@ascensioncartersville.org
SUMMARY:Canterbury Choir Rehearsal
DESCRIPTION:
URL:https://ascensioncartersville.org/calendar/canterbury-choir-rehearsal-136/
END:VEVENT
END:VCALENDAR