BEGIN:VCALENDAR
VERSION:2.0
PRODID:-//Episcopal Church of the Ascension - ECPv6.15.20//NONSGML v1.0//EN
CALSCALE:GREGORIAN
METHOD:PUBLISH
X-ORIGINAL-URL:https://ascensioncartersville.org
X-WR-CALDESC:Events for Episcopal Church of the Ascension
REFRESH-INTERVAL;VALUE=DURATION:PT1H
X-Robots-Tag:noindex
X-PUBLISHED-TTL:PT1H
BEGIN:VTIMEZONE
TZID:America/New_York
BEGIN:DAYLIGHT
TZOFFSETFROM:-0500
TZOFFSETTO:-0400
TZNAME:EDT
DTSTART:20220313T070000
END:DAYLIGHT
BEGIN:STANDARD
TZOFFSETFROM:-0400
TZOFFSETTO:-0500
TZNAME:EST
DTSTART:20221106T060000
END:STANDARD
BEGIN:DAYLIGHT
TZOFFSETFROM:-0500
TZOFFSETTO:-0400
TZNAME:EDT
DTSTART:20230312T070000
END:DAYLIGHT
BEGIN:STANDARD
TZOFFSETFROM:-0400
TZOFFSETTO:-0500
TZNAME:EST
DTSTART:20231105T060000
END:STANDARD
BEGIN:DAYLIGHT
TZOFFSETFROM:-0500
TZOFFSETTO:-0400
TZNAME:EDT
DTSTART:20240310T070000
END:DAYLIGHT
BEGIN:STANDARD
TZOFFSETFROM:-0400
TZOFFSETTO:-0500
TZNAME:EST
DTSTART:20241103T060000
END:STANDARD
BEGIN:DAYLIGHT
TZOFFSETFROM:-0500
TZOFFSETTO:-0400
TZNAME:EDT
DTSTART:20250309T070000
END:DAYLIGHT
BEGIN:STANDARD
TZOFFSETFROM:-0400
TZOFFSETTO:-0500
TZNAME:EST
DTSTART:20251102T060000
END:STANDARD
END:VTIMEZONE
BEGIN:VEVENT
DTSTART;TZID=America/New_York:20231224T162000
DTEND;TZID=America/New_York:20231224T172000
DTSTAMP:20260424T102658
CREATED:20231213T114647Z
LAST-MODIFIED:20231213T114647Z
UID:10003322-1703434800-1703438400@ascensioncartersville.org
SUMMARY:St. Cecilia Choir Rehearsal
DESCRIPTION:
URL:https://ascensioncartersville.org/calendar/st-cecilia-choir-rehearsal-34/
LOCATION:GA
END:VEVENT
BEGIN:VEVENT
DTSTART;TZID=America/New_York:20231224T170000
DTEND;TZID=America/New_York:20231224T190000
DTSTAMP:20260424T102658
CREATED:20230831T094918Z
LAST-MODIFIED:20230831T094918Z
UID:10003182-1703437200-1703444400@ascensioncartersville.org
SUMMARY:Family Pageant Service Followed by Reception
DESCRIPTION:
URL:https://ascensioncartersville.org/calendar/family-pageant-service-followed-by-reception/
LOCATION:GA
END:VEVENT
BEGIN:VEVENT
DTSTART;TZID=America/New_York:20231224T220000
DTEND;TZID=America/New_York:20231224T230000
DTSTAMP:20260424T102658
CREATED:20231208T110251Z
LAST-MODIFIED:20231208T110251Z
UID:10003316-1703455200-1703458800@ascensioncartersville.org
SUMMARY:Musical Prelude
DESCRIPTION:
URL:https://ascensioncartersville.org/calendar/musical-prelude/
LOCATION:GA
END:VEVENT
BEGIN:VEVENT
DTSTART;TZID=America/New_York:20231224T223000
DTEND;TZID=America/New_York:20231225T000000
DTSTAMP:20260424T102658
CREATED:20230831T094918Z
LAST-MODIFIED:20230831T094918Z
UID:10003184-1703457000-1703462400@ascensioncartersville.org
SUMMARY:Candlelight Midnight Service Followed by Festive Reception
DESCRIPTION:
URL:https://ascensioncartersville.org/calendar/candlelight-midnight-service-followed-by-festive-reception/
LOCATION:GA
END:VEVENT
BEGIN:VEVENT
DTSTART;VALUE=DATE:20231225
DTEND;VALUE=DATE:20231226
DTSTAMP:20260424T102658
CREATED:20230726T144251Z
LAST-MODIFIED:20230726T144251Z
UID:10002821-1703462400-1703548799@ascensioncartersville.org
SUMMARY:Christmas Day
DESCRIPTION:
URL:https://ascensioncartersville.org/calendar/christmas-day-3/
LOCATION:GA
END:VEVENT
BEGIN:VEVENT
DTSTART;VALUE=DATE:20231225
DTEND;VALUE=DATE:20231226
DTSTAMP:20260424T102658
CREATED:20231215T120304Z
LAST-MODIFIED:20231215T120304Z
UID:10003383-1703462400-1703548799@ascensioncartersville.org
SUMMARY:OFFICE CLOSED
DESCRIPTION:
URL:https://ascensioncartersville.org/calendar/office-closed-2/
LOCATION:GA
END:VEVENT
BEGIN:VEVENT
DTSTART;TZID=America/New_York:20231225T000100
DTEND;TZID=America/New_York:20231225T010000
DTSTAMP:20260424T102658
CREATED:20230831T094918Z
LAST-MODIFIED:20230831T094918Z
UID:10003186-1703462460-1703466000@ascensioncartersville.org
SUMMARY:Festive Reception
DESCRIPTION:
URL:https://ascensioncartersville.org/calendar/festive-reception/
LOCATION:GA
END:VEVENT
BEGIN:VEVENT
DTSTART;TZID=America/New_York:20231225T100000
DTEND;TZID=America/New_York:20231225T110000
DTSTAMP:20260424T102658
CREATED:20230831T094918Z
LAST-MODIFIED:20230831T094918Z
UID:10003185-1703498400-1703502000@ascensioncartersville.org
SUMMARY:Christmas Day Service
DESCRIPTION:
URL:https://ascensioncartersville.org/calendar/christmas-day-service/
LOCATION:GA
END:VEVENT
BEGIN:VEVENT
DTSTART;VALUE=DATE:20231226
DTEND;VALUE=DATE:20231227
DTSTAMP:20260424T102658
CREATED:20231215T120304Z
LAST-MODIFIED:20231215T120304Z
UID:10003384-1703548800-1703635199@ascensioncartersville.org
SUMMARY:OFFICE CLOSED
DESCRIPTION:
URL:https://ascensioncartersville.org/calendar/office-closed-3/
LOCATION:GA
END:VEVENT
BEGIN:VEVENT
DTSTART;TZID=America/New_York:20231226T170000
DTEND;TZID=America/New_York:20231226T190000
DTSTAMP:20260424T102658
CREATED:20230726T144251Z
LAST-MODIFIED:20230726T144251Z
UID:10002822-1703610000-1703617200@ascensioncartersville.org
SUMMARY:Red Door Food Pantry
DESCRIPTION:
URL:https://ascensioncartersville.org/calendar/red-door-food-pantry-246/
LOCATION:GA
END:VEVENT
BEGIN:VEVENT
DTSTART;TZID=America/New_York:20231227T090000
DTEND;TZID=America/New_York:20231227T110000
DTSTAMP:20260424T102658
CREATED:20230726T144251Z
LAST-MODIFIED:20230726T144251Z
UID:10002823-1703667600-1703674800@ascensioncartersville.org
SUMMARY:Red Door Food Pantry
DESCRIPTION:
URL:https://ascensioncartersville.org/calendar/red-door-food-pantry-247/
LOCATION:GA
END:VEVENT
BEGIN:VEVENT
DTSTART;TZID=America/New_York:20231227T111500
DTEND;TZID=America/New_York:20231227T121500
DTSTAMP:20260424T102658
CREATED:20231004T162930Z
LAST-MODIFIED:20231004T162930Z
UID:10003225-1703675700-1703679300@ascensioncartersville.org
SUMMARY:Pastoral Care Meeting
DESCRIPTION:
URL:https://ascensioncartersville.org/calendar/pastoral-care-meeting-37/
LOCATION:GA
END:VEVENT
BEGIN:VEVENT
DTSTART;TZID=America/New_York:20231227T121500
DTEND;TZID=America/New_York:20231227T131500
DTSTAMP:20260424T102658
CREATED:20230726T144251Z
LAST-MODIFIED:20230726T144251Z
UID:10002824-1703679300-1703682900@ascensioncartersville.org
SUMMARY:Holy Eucharist with Healing
DESCRIPTION:
URL:https://ascensioncartersville.org/calendar/holy-eucharist-with-healing-125/
LOCATION:GA
END:VEVENT
BEGIN:VEVENT
DTSTART;TZID=America/New_York:20231227T130000
DTEND;TZID=America/New_York:20231227T140000
DTSTAMP:20260424T102658
CREATED:20230824T223343Z
LAST-MODIFIED:20230824T223343Z
UID:10003082-1703682000-1703685600@ascensioncartersville.org
SUMMARY:Bible Study
DESCRIPTION:
URL:https://ascensioncartersville.org/calendar/bible-study-16/
LOCATION:GA
END:VEVENT
BEGIN:VEVENT
DTSTART;TZID=America/New_York:20231227T130000
DTEND;TZID=America/New_York:20231227T140000
DTSTAMP:20260424T102658
CREATED:20230824T223344Z
LAST-MODIFIED:20230824T223344Z
UID:10003083-1703682000-1703685600@ascensioncartersville.org
SUMMARY:Pastoral Care Meeting
DESCRIPTION:
URL:https://ascensioncartersville.org/calendar/pastoral-care-meeting-15/
LOCATION:GA
END:VEVENT
BEGIN:VEVENT
DTSTART;TZID=America/New_York:20231227T170000
DTEND;TZID=America/New_York:20231227T174500
DTSTAMP:20260424T102658
CREATED:20230824T223344Z
LAST-MODIFIED:20230824T223344Z
UID:10003084-1703696400-1703699100@ascensioncartersville.org
SUMMARY:St. Cecilia Choir Rehearsal
DESCRIPTION:
URL:https://ascensioncartersville.org/calendar/st-cecilia-choir-rehearsal-16/
LOCATION:GA
END:VEVENT
BEGIN:VEVENT
DTSTART;TZID=America/New_York:20231227T190000
DTEND;TZID=America/New_York:20231227T204500
DTSTAMP:20260424T102658
CREATED:20230824T223344Z
LAST-MODIFIED:20230824T223344Z
UID:10003085-1703703600-1703709900@ascensioncartersville.org
SUMMARY:Canterbury Choir Rehearsal
DESCRIPTION:
URL:https://ascensioncartersville.org/calendar/canterbury-choir-rehearsal-16/
LOCATION:GA
END:VEVENT
BEGIN:VEVENT
DTSTART;TZID=America/New_York:20231229T113000
DTEND;TZID=America/New_York:20231229T123000
DTSTAMP:20260424T102658
CREATED:20230726T144251Z
LAST-MODIFIED:20230726T144251Z
UID:10002825-1703849400-1703853000@ascensioncartersville.org
SUMMARY:Al-Anon Meeting
DESCRIPTION:Located in the Education room
URL:https://ascensioncartersville.org/calendar/al-anon-meeting-123/
LOCATION:GA
END:VEVENT
BEGIN:VEVENT
DTSTART;TZID=America/New_York:20231231T090000
DTEND;TZID=America/New_York:20231231T100000
DTSTAMP:20260424T102658
CREATED:20230726T144252Z
LAST-MODIFIED:20230726T144252Z
UID:10002826-1704013200-1704016800@ascensioncartersville.org
SUMMARY:Family Service
DESCRIPTION:
URL:https://ascensioncartersville.org/calendar/family-service-105/
LOCATION:GA
END:VEVENT
BEGIN:VEVENT
DTSTART;TZID=America/New_York:20231231T100000
DTEND;TZID=America/New_York:20231231T104500
DTSTAMP:20260424T102658
CREATED:20230831T094918Z
LAST-MODIFIED:20230831T094918Z
UID:10003187-1704016800-1704019500@ascensioncartersville.org
SUMMARY:Canterbury Choir Rehearsal
DESCRIPTION:
URL:https://ascensioncartersville.org/calendar/canterbury-choir-rehearsal-43/
LOCATION:GA
END:VEVENT
BEGIN:VEVENT
DTSTART;TZID=America/New_York:20231231T100000
DTEND;TZID=America/New_York:20231231T110000
DTSTAMP:20260424T102658
CREATED:20230726T144252Z
LAST-MODIFIED:20230726T144252Z
UID:10002827-1704016800-1704020400@ascensioncartersville.org
SUMMARY:Christian Formation Hour
DESCRIPTION:
URL:https://ascensioncartersville.org/calendar/christian-formation-hour-105/
LOCATION:GA
END:VEVENT
BEGIN:VEVENT
DTSTART;TZID=America/New_York:20240102T170000
DTEND;TZID=America/New_York:20240102T190000
DTSTAMP:20260424T102658
CREATED:20230726T144252Z
LAST-MODIFIED:20230726T144252Z
UID:10002828-1704214800-1704222000@ascensioncartersville.org
SUMMARY:Red Door Food Pantry
DESCRIPTION:
URL:https://ascensioncartersville.org/calendar/red-door-food-pantry-248/
LOCATION:GA
END:VEVENT
BEGIN:VEVENT
DTSTART;TZID=America/New_York:20240103T090000
DTEND;TZID=America/New_York:20240103T110000
DTSTAMP:20260424T102658
CREATED:20230726T144252Z
LAST-MODIFIED:20230726T144252Z
UID:10002829-1704272400-1704279600@ascensioncartersville.org
SUMMARY:Red Door Food Pantry
DESCRIPTION:
URL:https://ascensioncartersville.org/calendar/red-door-food-pantry-249/
LOCATION:GA
END:VEVENT
BEGIN:VEVENT
DTSTART;TZID=America/New_York:20240103T111500
DTEND;TZID=America/New_York:20240103T121500
DTSTAMP:20260424T102658
CREATED:20231004T162930Z
LAST-MODIFIED:20231004T162930Z
UID:10003226-1704280500-1704284100@ascensioncartersville.org
SUMMARY:Pastoral Care Meeting
DESCRIPTION:
URL:https://ascensioncartersville.org/calendar/pastoral-care-meeting-38/
LOCATION:GA
END:VEVENT
BEGIN:VEVENT
DTSTART;TZID=America/New_York:20240103T121500
DTEND;TZID=America/New_York:20240103T131500
DTSTAMP:20260424T102658
CREATED:20230726T144252Z
LAST-MODIFIED:20230726T144252Z
UID:10002830-1704284100-1704287700@ascensioncartersville.org
SUMMARY:Holy Eucharist with Healing
DESCRIPTION:
URL:https://ascensioncartersville.org/calendar/holy-eucharist-with-healing-126/
LOCATION:GA
END:VEVENT
BEGIN:VEVENT
DTSTART;TZID=America/New_York:20240103T130000
DTEND;TZID=America/New_York:20240103T140000
DTSTAMP:20260424T102658
CREATED:20230824T223344Z
LAST-MODIFIED:20230824T223344Z
UID:10003086-1704286800-1704290400@ascensioncartersville.org
SUMMARY:Pastoral Care Meeting
DESCRIPTION:
URL:https://ascensioncartersville.org/calendar/pastoral-care-meeting-16/
LOCATION:GA
END:VEVENT
BEGIN:VEVENT
DTSTART;TZID=America/New_York:20240103T130000
DTEND;TZID=America/New_York:20240103T140000
DTSTAMP:20260424T102658
CREATED:20230824T223344Z
LAST-MODIFIED:20230824T223344Z
UID:10003087-1704286800-1704290400@ascensioncartersville.org
SUMMARY:Bible Study
DESCRIPTION:
URL:https://ascensioncartersville.org/calendar/bible-study-17/
LOCATION:GA
END:VEVENT
BEGIN:VEVENT
DTSTART;TZID=America/New_York:20240103T170000
DTEND;TZID=America/New_York:20240103T174500
DTSTAMP:20260424T102658
CREATED:20230824T223344Z
LAST-MODIFIED:20230824T223344Z
UID:10003088-1704301200-1704303900@ascensioncartersville.org
SUMMARY:St. Cecilia Choir Rehearsal
DESCRIPTION:
URL:https://ascensioncartersville.org/calendar/st-cecilia-choir-rehearsal-17/
LOCATION:GA
END:VEVENT
BEGIN:VEVENT
DTSTART;TZID=America/New_York:20240103T190000
DTEND;TZID=America/New_York:20240103T204500
DTSTAMP:20260424T102658
CREATED:20230824T223344Z
LAST-MODIFIED:20230824T223344Z
UID:10003089-1704308400-1704314700@ascensioncartersville.org
SUMMARY:Canterbury Choir Rehearsal
DESCRIPTION:
URL:https://ascensioncartersville.org/calendar/canterbury-choir-rehearsal-17/
LOCATION:GA
END:VEVENT
BEGIN:VEVENT
DTSTART;TZID=America/New_York:20240104T183000
DTEND;TZID=America/New_York:20240104T193000
DTSTAMP:20260424T102658
CREATED:20231213T114647Z
LAST-MODIFIED:20231213T114647Z
UID:10003323-1704393000-1704396600@ascensioncartersville.org
SUMMARY:Christian Formation Meeting
DESCRIPTION:In the Ascension House library
URL:https://ascensioncartersville.org/calendar/christian-formation-meeting-2/
LOCATION:GA
END:VEVENT
END:VCALENDAR