BEGIN:VCALENDAR
VERSION:2.0
PRODID:-//Episcopal Church of the Ascension - ECPv6.15.20//NONSGML v1.0//EN
CALSCALE:GREGORIAN
METHOD:PUBLISH
X-ORIGINAL-URL:https://ascensioncartersville.org
X-WR-CALDESC:Events for Episcopal Church of the Ascension
REFRESH-INTERVAL;VALUE=DURATION:PT1H
X-Robots-Tag:noindex
X-PUBLISHED-TTL:PT1H
BEGIN:VTIMEZONE
TZID:America/New_York
BEGIN:DAYLIGHT
TZOFFSETFROM:-0500
TZOFFSETTO:-0400
TZNAME:EDT
DTSTART:20250309T070000
END:DAYLIGHT
BEGIN:STANDARD
TZOFFSETFROM:-0400
TZOFFSETTO:-0500
TZNAME:EST
DTSTART:20251102T060000
END:STANDARD
BEGIN:DAYLIGHT
TZOFFSETFROM:-0500
TZOFFSETTO:-0400
TZNAME:EDT
DTSTART:20260308T070000
END:DAYLIGHT
BEGIN:STANDARD
TZOFFSETFROM:-0400
TZOFFSETTO:-0500
TZNAME:EST
DTSTART:20261101T060000
END:STANDARD
BEGIN:DAYLIGHT
TZOFFSETFROM:-0500
TZOFFSETTO:-0400
TZNAME:EDT
DTSTART:20270314T070000
END:DAYLIGHT
BEGIN:STANDARD
TZOFFSETFROM:-0400
TZOFFSETTO:-0500
TZNAME:EST
DTSTART:20271107T060000
END:STANDARD
END:VTIMEZONE
BEGIN:VEVENT
DTSTART;TZID=America/New_York:20260208T110000
DTEND;TZID=America/New_York:20260208T120000
DTSTAMP:20260425T193707
CREATED:20260204T152718Z
LAST-MODIFIED:20260204T152718Z
UID:10004667-1770548400-1770552000@ascensioncartersville.org
SUMMARY:Holy Eucharist
DESCRIPTION:
URL:https://ascensioncartersville.org/calendar/holy-eucharist-259/
END:VEVENT
BEGIN:VEVENT
DTSTART;TZID=America/New_York:20260208T170000
DTEND;TZID=America/New_York:20260208T180000
DTSTAMP:20260425T193707
CREATED:20260204T152718Z
LAST-MODIFIED:20260204T152718Z
UID:10004668-1770570000-1770573600@ascensioncartersville.org
SUMMARY:Spiritual Concert-community event
DESCRIPTION:
URL:https://ascensioncartersville.org/calendar/spiritual-concert-community-event/
END:VEVENT
BEGIN:VEVENT
DTSTART;TZID=America/New_York:20260210T110000
DTEND;TZID=America/New_York:20260210T120000
DTSTAMP:20260425T193707
CREATED:20260204T152718Z
LAST-MODIFIED:20260204T152718Z
UID:10004669-1770721200-1770724800@ascensioncartersville.org
SUMMARY:"Connect" Meeting
DESCRIPTION:
URL:https://ascensioncartersville.org/calendar/connect-meeting-13/
END:VEVENT
BEGIN:VEVENT
DTSTART;TZID=America/New_York:20260210T170000
DTEND;TZID=America/New_York:20260210T190000
DTSTAMP:20260425T193707
CREATED:20260204T152718Z
LAST-MODIFIED:20260204T152718Z
UID:10004670-1770742800-1770750000@ascensioncartersville.org
SUMMARY:Red Door Food Pantry
DESCRIPTION:
URL:https://ascensioncartersville.org/calendar/red-door-food-pantry-457/
END:VEVENT
BEGIN:VEVENT
DTSTART;TZID=America/New_York:20260211T090000
DTEND;TZID=America/New_York:20260211T110000
DTSTAMP:20260425T193707
CREATED:20260204T152719Z
LAST-MODIFIED:20260204T152719Z
UID:10004671-1770800400-1770807600@ascensioncartersville.org
SUMMARY:Red Door Food Pantry
DESCRIPTION:
URL:https://ascensioncartersville.org/calendar/red-door-food-pantry-458/
END:VEVENT
BEGIN:VEVENT
DTSTART;TZID=America/New_York:20260211T121500
DTEND;TZID=America/New_York:20260211T131500
DTSTAMP:20260425T193707
CREATED:20260204T152719Z
LAST-MODIFIED:20260204T152719Z
UID:10004672-1770812100-1770815700@ascensioncartersville.org
SUMMARY:Midweek Service
DESCRIPTION:
URL:https://ascensioncartersville.org/calendar/midweek-service-38/
END:VEVENT
BEGIN:VEVENT
DTSTART;TZID=America/New_York:20260211T170000
DTEND;TZID=America/New_York:20260211T174500
DTSTAMP:20260425T193707
CREATED:20260204T152720Z
LAST-MODIFIED:20260204T152720Z
UID:10004673-1770829200-1770831900@ascensioncartersville.org
SUMMARY:St. Cecilia Choir
DESCRIPTION:
URL:https://ascensioncartersville.org/calendar/st-cecilia-choir-31/
END:VEVENT
BEGIN:VEVENT
DTSTART;TZID=America/New_York:20260211T173000
DTEND;TZID=America/New_York:20260211T190000
DTSTAMP:20260425T193707
CREATED:20260204T152720Z
LAST-MODIFIED:20260204T152720Z
UID:10004674-1770831000-1770836400@ascensioncartersville.org
SUMMARY:Gather in the Middle
DESCRIPTION:
URL:https://ascensioncartersville.org/calendar/gather-in-the-middle-2/
LOCATION:Tonsmeire Hall
END:VEVENT
BEGIN:VEVENT
DTSTART;TZID=America/New_York:20260213T113000
DTEND;TZID=America/New_York:20260213T123000
DTSTAMP:20260425T193707
CREATED:20260204T152720Z
LAST-MODIFIED:20260204T152720Z
UID:10004675-1770982200-1770985800@ascensioncartersville.org
SUMMARY:Al-Anon Meeting
DESCRIPTION:Located in the Education room
URL:https://ascensioncartersville.org/calendar/al-anon-meeting-228/
END:VEVENT
BEGIN:VEVENT
DTSTART;TZID=America/New_York:20260213T190000
DTEND;TZID=America/New_York:20260213T210000
DTSTAMP:20260425T193707
CREATED:20260204T152720Z
LAST-MODIFIED:20260204T152720Z
UID:10004676-1771009200-1771016400@ascensioncartersville.org
SUMMARY:Ascension Coffee House
DESCRIPTION:
URL:https://ascensioncartersville.org/calendar/ascension-coffee-house-29/
END:VEVENT
BEGIN:VEVENT
DTSTART;TZID=America/New_York:20260214T090000
DTEND;TZID=America/New_York:20260214T094500
DTSTAMP:20260425T193707
CREATED:20260204T152721Z
LAST-MODIFIED:20260204T152721Z
UID:10004678-1771059600-1771062300@ascensioncartersville.org
SUMMARY:Men's Breakfast
DESCRIPTION:
URL:https://ascensioncartersville.org/calendar/mens-breakfast-28/
LOCATION:Parish Hall
END:VEVENT
BEGIN:VEVENT
DTSTART;TZID=America/New_York:20260214T093000
DTEND;TZID=America/New_York:20260214T113000
DTSTAMP:20260425T193707
CREATED:20260204T152721Z
LAST-MODIFIED:20260204T152721Z
UID:10004677-1771061400-1771068600@ascensioncartersville.org
SUMMARY:Brotherhood of St. Andrew
DESCRIPTION:
URL:https://ascensioncartersville.org/calendar/brotherhood-of-st-andrew-15/
END:VEVENT
BEGIN:VEVENT
DTSTART;TZID=America/New_York:20260215T074500
DTEND;TZID=America/New_York:20260215T084500
DTSTAMP:20260425T193707
CREATED:20260204T152721Z
LAST-MODIFIED:20260204T152721Z
UID:10004679-1771141500-1771145100@ascensioncartersville.org
SUMMARY:Holy Eucharist
DESCRIPTION:
URL:https://ascensioncartersville.org/calendar/holy-eucharist-260/
END:VEVENT
BEGIN:VEVENT
DTSTART;TZID=America/New_York:20260215T090000
DTEND;TZID=America/New_York:20260215T100000
DTSTAMP:20260425T193707
CREATED:20260204T152721Z
LAST-MODIFIED:20260204T152721Z
UID:10004680-1771146000-1771149600@ascensioncartersville.org
SUMMARY:All Ages Service
DESCRIPTION:
URL:https://ascensioncartersville.org/calendar/all-ages-service-139/
END:VEVENT
BEGIN:VEVENT
DTSTART;TZID=America/New_York:20260215T100000
DTEND;TZID=America/New_York:20260215T104500
DTSTAMP:20260425T193707
CREATED:20260204T152721Z
LAST-MODIFIED:20260204T152721Z
UID:10004681-1771149600-1771152300@ascensioncartersville.org
SUMMARY:Christian Formation -All Ages
DESCRIPTION:
URL:https://ascensioncartersville.org/calendar/christian-formation-all-ages-34/
END:VEVENT
BEGIN:VEVENT
DTSTART;TZID=America/New_York:20260215T110000
DTEND;TZID=America/New_York:20260215T120000
DTSTAMP:20260425T193707
CREATED:20260204T152722Z
LAST-MODIFIED:20260204T152722Z
UID:10004682-1771153200-1771156800@ascensioncartersville.org
SUMMARY:Holy Eucharist
DESCRIPTION:
URL:https://ascensioncartersville.org/calendar/holy-eucharist-261/
END:VEVENT
BEGIN:VEVENT
DTSTART;TZID=America/New_York:20260215T173000
DTEND;TZID=America/New_York:20260216T070000
DTSTAMP:20260425T193707
CREATED:20260204T152722Z
LAST-MODIFIED:20260204T152722Z
UID:10004683-1771176600-1771225200@ascensioncartersville.org
SUMMARY:Shrove Pancake Supper
DESCRIPTION:
URL:https://ascensioncartersville.org/calendar/shrove-pancake-supper/
END:VEVENT
BEGIN:VEVENT
DTSTART;TZID=America/New_York:20260217T170000
DTEND;TZID=America/New_York:20260217T190000
DTSTAMP:20260425T193707
CREATED:20260204T152722Z
LAST-MODIFIED:20260204T152722Z
UID:10004684-1771347600-1771354800@ascensioncartersville.org
SUMMARY:Red Door Food Pantry
DESCRIPTION:
URL:https://ascensioncartersville.org/calendar/red-door-food-pantry-459/
END:VEVENT
BEGIN:VEVENT
DTSTART;VALUE=DATE:20260218
DTEND;VALUE=DATE:20260219
DTSTAMP:20260425T193707
CREATED:20260204T152723Z
LAST-MODIFIED:20260204T152723Z
UID:10004685-1771372800-1771459199@ascensioncartersville.org
SUMMARY:ASH WEDNESDAY
DESCRIPTION:
URL:https://ascensioncartersville.org/calendar/ash-wednesday-3/
END:VEVENT
BEGIN:VEVENT
DTSTART;TZID=America/New_York:20260218T090000
DTEND;TZID=America/New_York:20260218T110000
DTSTAMP:20260425T193707
CREATED:20260204T152723Z
LAST-MODIFIED:20260204T152723Z
UID:10004686-1771405200-1771412400@ascensioncartersville.org
SUMMARY:Red Door Food Pantry
DESCRIPTION:
URL:https://ascensioncartersville.org/calendar/red-door-food-pantry-460/
END:VEVENT
BEGIN:VEVENT
DTSTART;TZID=America/New_York:20260218T121500
DTEND;TZID=America/New_York:20260218T131500
DTSTAMP:20260425T193707
CREATED:20260204T152723Z
LAST-MODIFIED:20260204T152723Z
UID:10004687-1771416900-1771420500@ascensioncartersville.org
SUMMARY:Midweek Service
DESCRIPTION:
URL:https://ascensioncartersville.org/calendar/midweek-service-39/
END:VEVENT
BEGIN:VEVENT
DTSTART;TZID=America/New_York:20260218T130000
DTEND;TZID=America/New_York:20260218T140000
DTSTAMP:20260425T193707
CREATED:20260204T152723Z
LAST-MODIFIED:20260204T152723Z
UID:10004688-1771419600-1771423200@ascensioncartersville.org
SUMMARY:Pastoral Care Meeting
DESCRIPTION:In Ascension House Library
URL:https://ascensioncartersville.org/calendar/pastoral-care-meeting-94/
END:VEVENT
BEGIN:VEVENT
DTSTART;TZID=America/New_York:20260218T170000
DTEND;TZID=America/New_York:20260218T174500
DTSTAMP:20260425T193707
CREATED:20260204T152723Z
LAST-MODIFIED:20260204T152723Z
UID:10004689-1771434000-1771436700@ascensioncartersville.org
SUMMARY:St. Cecilia Choir
DESCRIPTION:
URL:https://ascensioncartersville.org/calendar/st-cecilia-choir-32/
END:VEVENT
BEGIN:VEVENT
DTSTART;VALUE=DATE:20260219
DTEND;VALUE=DATE:20260225
DTSTAMP:20260425T193707
CREATED:20260204T152726Z
LAST-MODIFIED:20260204T152726Z
UID:10004697-1771459200-1771977599@ascensioncartersville.org
SUMMARY:City Schools Winter Break
DESCRIPTION:
URL:https://ascensioncartersville.org/calendar/city-schools-winter-break/
END:VEVENT
BEGIN:VEVENT
DTSTART;TZID=America/New_York:20260220T113000
DTEND;TZID=America/New_York:20260220T123000
DTSTAMP:20260425T193707
CREATED:20260204T152724Z
LAST-MODIFIED:20260204T152724Z
UID:10004690-1771587000-1771590600@ascensioncartersville.org
SUMMARY:Al-Anon Meeting
DESCRIPTION:Located in the Education room
URL:https://ascensioncartersville.org/calendar/al-anon-meeting-229/
END:VEVENT
BEGIN:VEVENT
DTSTART;TZID=America/New_York:20260221T163000
DTEND;TZID=America/New_York:20260221T180000
DTSTAMP:20260425T193707
CREATED:20260204T152724Z
LAST-MODIFIED:20260204T152724Z
UID:10004691-1771691400-1771696800@ascensioncartersville.org
SUMMARY:Newcomers Reception
DESCRIPTION:
URL:https://ascensioncartersville.org/calendar/newcomers-reception-3/
END:VEVENT
BEGIN:VEVENT
DTSTART;TZID=America/New_York:20260222T074500
DTEND;TZID=America/New_York:20260222T084500
DTSTAMP:20260425T193707
CREATED:20260204T152724Z
LAST-MODIFIED:20260204T152724Z
UID:10004692-1771746300-1771749900@ascensioncartersville.org
SUMMARY:Holy Eucharist
DESCRIPTION:
URL:https://ascensioncartersville.org/calendar/holy-eucharist-262/
END:VEVENT
BEGIN:VEVENT
DTSTART;TZID=America/New_York:20260222T090000
DTEND;TZID=America/New_York:20260222T100000
DTSTAMP:20260425T193707
CREATED:20260204T152724Z
LAST-MODIFIED:20260204T152724Z
UID:10004693-1771750800-1771754400@ascensioncartersville.org
SUMMARY:All Ages Service
DESCRIPTION:
URL:https://ascensioncartersville.org/calendar/all-ages-service-140/
END:VEVENT
BEGIN:VEVENT
DTSTART;TZID=America/New_York:20260222T100000
DTEND;TZID=America/New_York:20260222T104500
DTSTAMP:20260425T193707
CREATED:20260204T152725Z
LAST-MODIFIED:20260204T152725Z
UID:10004694-1771754400-1771757100@ascensioncartersville.org
SUMMARY:Membership class
DESCRIPTION:
URL:https://ascensioncartersville.org/calendar/membership-class-4/
END:VEVENT
BEGIN:VEVENT
DTSTART;TZID=America/New_York:20260222T110000
DTEND;TZID=America/New_York:20260222T120000
DTSTAMP:20260425T193707
CREATED:20260204T152725Z
LAST-MODIFIED:20260204T152725Z
UID:10004695-1771758000-1771761600@ascensioncartersville.org
SUMMARY:Holy Eucharist
DESCRIPTION:
URL:https://ascensioncartersville.org/calendar/holy-eucharist-263/
END:VEVENT
END:VCALENDAR