BEGIN:VCALENDAR
VERSION:2.0
PRODID:-//Episcopal Church of the Ascension - ECPv6.15.20//NONSGML v1.0//EN
CALSCALE:GREGORIAN
METHOD:PUBLISH
X-WR-CALNAME:Episcopal Church of the Ascension
X-ORIGINAL-URL:https://ascensioncartersville.org
X-WR-CALDESC:Events for Episcopal Church of the Ascension
REFRESH-INTERVAL;VALUE=DURATION:PT1H
X-Robots-Tag:noindex
X-PUBLISHED-TTL:PT1H
BEGIN:VTIMEZONE
TZID:America/New_York
BEGIN:DAYLIGHT
TZOFFSETFROM:-0500
TZOFFSETTO:-0400
TZNAME:EDT
DTSTART:20240310T070000
END:DAYLIGHT
BEGIN:STANDARD
TZOFFSETFROM:-0400
TZOFFSETTO:-0500
TZNAME:EST
DTSTART:20241103T060000
END:STANDARD
BEGIN:DAYLIGHT
TZOFFSETFROM:-0500
TZOFFSETTO:-0400
TZNAME:EDT
DTSTART:20250309T070000
END:DAYLIGHT
BEGIN:STANDARD
TZOFFSETFROM:-0400
TZOFFSETTO:-0500
TZNAME:EST
DTSTART:20251102T060000
END:STANDARD
BEGIN:DAYLIGHT
TZOFFSETFROM:-0500
TZOFFSETTO:-0400
TZNAME:EDT
DTSTART:20260308T070000
END:DAYLIGHT
BEGIN:STANDARD
TZOFFSETFROM:-0400
TZOFFSETTO:-0500
TZNAME:EST
DTSTART:20261101T060000
END:STANDARD
END:VTIMEZONE
BEGIN:VEVENT
DTSTART;TZID=America/New_York:20250319T130000
DTEND;TZID=America/New_York:20250319T140000
DTSTAMP:20260421T070242
CREATED:20241218T191815Z
LAST-MODIFIED:20241218T191815Z
UID:10004256-1742389200-1742392800@ascensioncartersville.org
SUMMARY:Pastoral Care Meeting
DESCRIPTION:In Ascension House Library
URL:https://ascensioncartersville.org/calendar/pastoral-care-meeting-84/
END:VEVENT
BEGIN:VEVENT
DTSTART;TZID=America/New_York:20250319T121500
DTEND;TZID=America/New_York:20250319T131500
DTSTAMP:20260421T070242
CREATED:20240724T214837Z
LAST-MODIFIED:20240724T214837Z
UID:10003889-1742386500-1742390100@ascensioncartersville.org
SUMMARY:Holy Eucharist with Healing
DESCRIPTION:
URL:https://ascensioncartersville.org/calendar/holy-eucharist-with-healing-189/
END:VEVENT
BEGIN:VEVENT
DTSTART;TZID=America/New_York:20250319T111500
DTEND;TZID=America/New_York:20250319T121500
DTSTAMP:20260421T070242
CREATED:20250207T121912Z
LAST-MODIFIED:20250207T121912Z
UID:10004410-1742382900-1742386500@ascensioncartersville.org
SUMMARY:1st Pres. Bible Study
DESCRIPTION:
URL:https://ascensioncartersville.org/calendar/1st-pres-bible-study-6/
LOCATION:Ascension classroom
END:VEVENT
BEGIN:VEVENT
DTSTART;TZID=America/New_York:20250319T090000
DTEND;TZID=America/New_York:20250319T110000
DTSTAMP:20260421T070242
CREATED:20240721T210346Z
LAST-MODIFIED:20240721T210346Z
UID:10003888-1742374800-1742382000@ascensioncartersville.org
SUMMARY:Red Door Food Pantry
DESCRIPTION:
URL:https://ascensioncartersville.org/calendar/red-door-food-pantry-375/
END:VEVENT
BEGIN:VEVENT
DTSTART;TZID=America/New_York:20250318T170000
DTEND;TZID=America/New_York:20250318T190000
DTSTAMP:20260421T070242
CREATED:20240721T210346Z
LAST-MODIFIED:20240721T210346Z
UID:10003887-1742317200-1742324400@ascensioncartersville.org
SUMMARY:Red Door Food Pantry
DESCRIPTION:
URL:https://ascensioncartersville.org/calendar/red-door-food-pantry-374/
END:VEVENT
BEGIN:VEVENT
DTSTART;TZID=America/New_York:20250317T183000
DTEND;TZID=America/New_York:20250317T193000
DTSTAMP:20260421T070242
CREATED:20250311T182943Z
LAST-MODIFIED:20250311T182943Z
UID:10004444-1742236200-1742239800@ascensioncartersville.org
SUMMARY:Meditation of the Heart
DESCRIPTION:
URL:https://ascensioncartersville.org/calendar/meditation-of-the-heart/
END:VEVENT
BEGIN:VEVENT
DTSTART;TZID=America/New_York:20250316T110000
DTEND;TZID=America/New_York:20250316T120000
DTSTAMP:20260421T070242
CREATED:20240720T204720Z
LAST-MODIFIED:20240720T204720Z
UID:10003886-1742122800-1742126400@ascensioncartersville.org
SUMMARY:Holy Eucharist
DESCRIPTION:
URL:https://ascensioncartersville.org/calendar/holy-eucharist-135/
END:VEVENT
BEGIN:VEVENT
DTSTART;TZID=America/New_York:20250316T100000
DTEND;TZID=America/New_York:20250316T104500
DTSTAMP:20260421T070242
CREATED:20250113T230118Z
LAST-MODIFIED:20250113T230118Z
UID:10004359-1742119200-1742121900@ascensioncartersville.org
SUMMARY:Christian Formation -All Ages
DESCRIPTION:
URL:https://ascensioncartersville.org/calendar/christian-formation-all-ages-9/
END:VEVENT
BEGIN:VEVENT
DTSTART;TZID=America/New_York:20250316T090000
DTEND;TZID=America/New_York:20250316T100000
DTSTAMP:20260421T070242
CREATED:20240720T204720Z
LAST-MODIFIED:20240720T204720Z
UID:10003885-1742115600-1742119200@ascensioncartersville.org
SUMMARY:All ages Service
DESCRIPTION:
URL:https://ascensioncartersville.org/calendar/all-ages-service-64/
END:VEVENT
BEGIN:VEVENT
DTSTART;TZID=America/New_York:20250316T074500
DTEND;TZID=America/New_York:20250316T084500
DTSTAMP:20260421T070242
CREATED:20240720T204719Z
LAST-MODIFIED:20240720T204719Z
UID:10003884-1742111100-1742114700@ascensioncartersville.org
SUMMARY:Holy Eucharist
DESCRIPTION:
URL:https://ascensioncartersville.org/calendar/holy-eucharist-134/
END:VEVENT
BEGIN:VEVENT
DTSTART;TZID=America/New_York:20250315T140000
DTEND;TZID=America/New_York:20250315T170000
DTSTAMP:20260421T070242
CREATED:20250305T171905Z
LAST-MODIFIED:20250305T171905Z
UID:10004440-1742047200-1742058000@ascensioncartersville.org
SUMMARY:Claudia White's funeral
DESCRIPTION:
URL:https://ascensioncartersville.org/calendar/claudia-whites-funeral/
END:VEVENT
BEGIN:VEVENT
DTSTART;TZID=America/New_York:20250314T190000
DTEND;TZID=America/New_York:20250314T210000
DTSTAMP:20260421T070242
CREATED:20240720T204719Z
LAST-MODIFIED:20240720T204719Z
UID:10003883-1741978800-1741986000@ascensioncartersville.org
SUMMARY:Ascension Coffee House
DESCRIPTION:
URL:https://ascensioncartersville.org/calendar/ascension-coffee-house-19/
END:VEVENT
BEGIN:VEVENT
DTSTART;TZID=America/New_York:20250314T113000
DTEND;TZID=America/New_York:20250314T123000
DTSTAMP:20260421T070242
CREATED:20240720T204719Z
LAST-MODIFIED:20240720T204719Z
UID:10003882-1741951800-1741955400@ascensioncartersville.org
SUMMARY:Al-Anon Meeting
DESCRIPTION:Located in the Education room
URL:https://ascensioncartersville.org/calendar/al-anon-meeting-186/
END:VEVENT
BEGIN:VEVENT
DTSTART;TZID=America/New_York:20250313T120000
DTEND;TZID=America/New_York:20250313T210000
DTSTAMP:20260421T070242
CREATED:20250204T114457Z
LAST-MODIFIED:20250204T114457Z
UID:10004403-1741867200-1741899600@ascensioncartersville.org
SUMMARY:Womens Club
DESCRIPTION:
URL:https://ascensioncartersville.org/calendar/womens-club-2/
END:VEVENT
BEGIN:VEVENT
DTSTART;TZID=America/New_York:20250313T120000
DTEND;TZID=America/New_York:20250313T130000
DTSTAMP:20260421T070242
CREATED:20250115T233246Z
LAST-MODIFIED:20250115T233246Z
UID:10004378-1741867200-1741870800@ascensioncartersville.org
SUMMARY:Lenten Lunches-Heritage
DESCRIPTION:
URL:https://ascensioncartersville.org/calendar/lenten-lunches-heritage/
LOCATION:Heritage Baptist Church\, 1070 Douthit Ferry Rd\, Cartersville\, GA\, United States
GEO:34.126508;-84.820465
X-APPLE-STRUCTURED-LOCATION;VALUE=URI;X-ADDRESS=Heritage Baptist Church 1070 Douthit Ferry Rd Cartersville GA United States;X-APPLE-RADIUS=500;X-TITLE=1070 Douthit Ferry Rd:geo:-84.820465,34.126508
END:VEVENT
BEGIN:VEVENT
DTSTART;TZID=America/New_York:20250312T190000
DTEND;TZID=America/New_York:20250312T204500
DTSTAMP:20260421T070242
CREATED:20240926T163347Z
LAST-MODIFIED:20240926T163347Z
UID:10004011-1741806000-1741812300@ascensioncartersville.org
SUMMARY:Canterbury Choir Rehearsal
DESCRIPTION:
URL:https://ascensioncartersville.org/calendar/canterbury-choir-rehearsal-99/
END:VEVENT
BEGIN:VEVENT
DTSTART;TZID=America/New_York:20250312T173000
DTEND;TZID=America/New_York:20250312T190000
DTSTAMP:20260421T070242
CREATED:20250131T110006Z
LAST-MODIFIED:20250131T110006Z
UID:10004395-1741800600-1741806000@ascensioncartersville.org
SUMMARY:Lenten Series
DESCRIPTION:
URL:https://ascensioncartersville.org/calendar/lenten-series/
END:VEVENT
BEGIN:VEVENT
DTSTART;TZID=America/New_York:20250312T121500
DTEND;TZID=America/New_York:20250312T131500
DTSTAMP:20260421T070242
CREATED:20240720T204719Z
LAST-MODIFIED:20240720T204719Z
UID:10003881-1741781700-1741785300@ascensioncartersville.org
SUMMARY:Holy Eucharist with Healing
DESCRIPTION:
URL:https://ascensioncartersville.org/calendar/holy-eucharist-with-healing-188/
END:VEVENT
BEGIN:VEVENT
DTSTART;TZID=America/New_York:20250312T111500
DTEND;TZID=America/New_York:20250312T121500
DTSTAMP:20260421T070242
CREATED:20250207T121912Z
LAST-MODIFIED:20250207T121912Z
UID:10004409-1741778100-1741781700@ascensioncartersville.org
SUMMARY:1st Pres. Bible Study
DESCRIPTION:
URL:https://ascensioncartersville.org/calendar/1st-pres-bible-study-5/
LOCATION:Ascension classroom
END:VEVENT
BEGIN:VEVENT
DTSTART;TZID=America/New_York:20250312T090000
DTEND;TZID=America/New_York:20250312T110000
DTSTAMP:20260421T070242
CREATED:20240720T204718Z
LAST-MODIFIED:20240720T204718Z
UID:10003880-1741770000-1741777200@ascensioncartersville.org
SUMMARY:Red Door Food Pantry
DESCRIPTION:
URL:https://ascensioncartersville.org/calendar/red-door-food-pantry-373/
END:VEVENT
BEGIN:VEVENT
DTSTART;TZID=America/New_York:20250311T180000
DTEND;TZID=America/New_York:20250311T190000
DTSTAMP:20260421T070242
CREATED:20240720T204718Z
LAST-MODIFIED:20240720T204718Z
UID:10003878-1741716000-1741719600@ascensioncartersville.org
SUMMARY:Red Door Food Pantry Board Meeting
DESCRIPTION:
URL:https://ascensioncartersville.org/calendar/red-door-food-pantry-board-meeting-14/
END:VEVENT
BEGIN:VEVENT
DTSTART;TZID=America/New_York:20250311T170000
DTEND;TZID=America/New_York:20250311T190000
DTSTAMP:20260421T070242
CREATED:20240720T204718Z
LAST-MODIFIED:20240720T204718Z
UID:10003879-1741712400-1741719600@ascensioncartersville.org
SUMMARY:Red Door Food Pantry
DESCRIPTION:
URL:https://ascensioncartersville.org/calendar/red-door-food-pantry-372/
END:VEVENT
BEGIN:VEVENT
DTSTART;TZID=America/New_York:20250311T110000
DTEND;TZID=America/New_York:20250311T120000
DTSTAMP:20260421T070242
CREATED:20250130T104609Z
LAST-MODIFIED:20250130T104609Z
UID:10004388-1741690800-1741694400@ascensioncartersville.org
SUMMARY:Connect Meeting
DESCRIPTION:
URL:https://ascensioncartersville.org/calendar/connect-meeting-3/
END:VEVENT
BEGIN:VEVENT
DTSTART;TZID=America/New_York:20250309T110000
DTEND;TZID=America/New_York:20250309T120000
DTSTAMP:20260421T070242
CREATED:20240720T204717Z
LAST-MODIFIED:20240720T204717Z
UID:10003876-1741518000-1741521600@ascensioncartersville.org
SUMMARY:Holy Eucharist
DESCRIPTION:
URL:https://ascensioncartersville.org/calendar/holy-eucharist-133/
END:VEVENT
BEGIN:VEVENT
DTSTART;TZID=America/New_York:20250309T100000
DTEND;TZID=America/New_York:20250309T104500
DTSTAMP:20260421T070242
CREATED:20250113T230118Z
LAST-MODIFIED:20250113T230118Z
UID:10004358-1741514400-1741517100@ascensioncartersville.org
SUMMARY:Christian Formation -All Ages
DESCRIPTION:
URL:https://ascensioncartersville.org/calendar/christian-formation-all-ages-8/
END:VEVENT
BEGIN:VEVENT
DTSTART;TZID=America/New_York:20250309T090000
DTEND;TZID=America/New_York:20250309T100000
DTSTAMP:20260421T070242
CREATED:20240720T204717Z
LAST-MODIFIED:20240720T204717Z
UID:10003875-1741510800-1741514400@ascensioncartersville.org
SUMMARY:All ages Service
DESCRIPTION:
URL:https://ascensioncartersville.org/calendar/all-ages-service-63/
END:VEVENT
BEGIN:VEVENT
DTSTART;TZID=America/New_York:20250309T074500
DTEND;TZID=America/New_York:20250309T084500
DTSTAMP:20260421T070242
CREATED:20240720T204717Z
LAST-MODIFIED:20240720T204717Z
UID:10003874-1741506300-1741509900@ascensioncartersville.org
SUMMARY:Holy Eucharist
DESCRIPTION:
URL:https://ascensioncartersville.org/calendar/holy-eucharist-132/
END:VEVENT
BEGIN:VEVENT
DTSTART;TZID=America/New_York:20250308T090000
DTEND;TZID=America/New_York:20250308T103000
DTSTAMP:20260421T070242
CREATED:20240720T204717Z
LAST-MODIFIED:20240720T204717Z
UID:10003873-1741424400-1741429800@ascensioncartersville.org
SUMMARY:Men's Breakfast
DESCRIPTION:
URL:https://ascensioncartersville.org/calendar/mens-breakfast-18/
LOCATION:Parish Hall
END:VEVENT
BEGIN:VEVENT
DTSTART;TZID=America/New_York:20250307T113000
DTEND;TZID=America/New_York:20250307T123000
DTSTAMP:20260421T070242
CREATED:20240720T204716Z
LAST-MODIFIED:20240720T204716Z
UID:10003872-1741347000-1741350600@ascensioncartersville.org
SUMMARY:Al-Anon Meeting
DESCRIPTION:Located in the Education room
URL:https://ascensioncartersville.org/calendar/al-anon-meeting-185/
END:VEVENT
BEGIN:VEVENT
DTSTART;TZID=America/New_York:20250306T180000
DTEND;TZID=America/New_York:20250306T193000
DTSTAMP:20260421T070242
CREATED:20240720T204716Z
LAST-MODIFIED:20240720T204716Z
UID:10003871-1741284000-1741289400@ascensioncartersville.org
SUMMARY:Christian Formation Meeting
DESCRIPTION:
URL:https://ascensioncartersville.org/calendar/christian-formation-meeting-20/
END:VEVENT
END:VCALENDAR