BEGIN:VCALENDAR
VERSION:2.0
PRODID:-//Episcopal Church of the Ascension - ECPv6.15.20//NONSGML v1.0//EN
CALSCALE:GREGORIAN
METHOD:PUBLISH
X-WR-CALNAME:Episcopal Church of the Ascension
X-ORIGINAL-URL:https://ascensioncartersville.org
X-WR-CALDESC:Events for Episcopal Church of the Ascension
REFRESH-INTERVAL;VALUE=DURATION:PT1H
X-Robots-Tag:noindex
X-PUBLISHED-TTL:PT1H
BEGIN:VTIMEZONE
TZID:America/New_York
BEGIN:DAYLIGHT
TZOFFSETFROM:-0500
TZOFFSETTO:-0400
TZNAME:EDT
DTSTART:20230312T070000
END:DAYLIGHT
BEGIN:STANDARD
TZOFFSETFROM:-0400
TZOFFSETTO:-0500
TZNAME:EST
DTSTART:20231105T060000
END:STANDARD
BEGIN:DAYLIGHT
TZOFFSETFROM:-0500
TZOFFSETTO:-0400
TZNAME:EDT
DTSTART:20240310T070000
END:DAYLIGHT
BEGIN:STANDARD
TZOFFSETFROM:-0400
TZOFFSETTO:-0500
TZNAME:EST
DTSTART:20241103T060000
END:STANDARD
BEGIN:DAYLIGHT
TZOFFSETFROM:-0500
TZOFFSETTO:-0400
TZNAME:EDT
DTSTART:20250309T070000
END:DAYLIGHT
BEGIN:STANDARD
TZOFFSETFROM:-0400
TZOFFSETTO:-0500
TZNAME:EST
DTSTART:20251102T060000
END:STANDARD
END:VTIMEZONE
BEGIN:VEVENT
DTSTART;TZID=America/New_York:20241103T130000
DTEND;TZID=America/New_York:20241103T150000
DTSTAMP:20260421T070112
CREATED:20240913T144440Z
LAST-MODIFIED:20240913T144440Z
UID:10003972-1730638800-1730646000@ascensioncartersville.org
SUMMARY:Confirmation/Membership Classes
DESCRIPTION:
URL:https://ascensioncartersville.org/calendar/confirmation-membership-classes-2/
END:VEVENT
BEGIN:VEVENT
DTSTART;TZID=America/New_York:20241103T170000
DTEND;TZID=America/New_York:20241103T180000
DTSTAMP:20260421T070112
CREATED:20240814T104425Z
LAST-MODIFIED:20240814T104425Z
UID:10003918-1730653200-1730656800@ascensioncartersville.org
SUMMARY:Evensong
DESCRIPTION:
URL:https://ascensioncartersville.org/calendar/evensong-2/
END:VEVENT
BEGIN:VEVENT
DTSTART;TZID=America/New_York:20241103T170000
DTEND;TZID=America/New_York:20241103T180000
DTSTAMP:20260421T070112
CREATED:20240823T114812Z
LAST-MODIFIED:20240823T114812Z
UID:10003932-1730653200-1730656800@ascensioncartersville.org
SUMMARY:Evensong
DESCRIPTION:
URL:https://ascensioncartersville.org/calendar/evensong-3/
END:VEVENT
BEGIN:VEVENT
DTSTART;TZID=America/New_York:20241105T110000
DTEND;TZID=America/New_York:20241105T120000
DTSTAMP:20260421T070112
CREATED:20241022T194644Z
LAST-MODIFIED:20241022T194644Z
UID:10004039-1730804400-1730808000@ascensioncartersville.org
SUMMARY:Connections Team meeting
DESCRIPTION:
URL:https://ascensioncartersville.org/calendar/connections-team-meeting-3/
LOCATION:Tonsmeire Hall
END:VEVENT
BEGIN:VEVENT
DTSTART;TZID=America/New_York:20241105T170000
DTEND;TZID=America/New_York:20241105T190000
DTSTAMP:20260421T070112
CREATED:20240406T170243Z
LAST-MODIFIED:20240406T170243Z
UID:10003608-1730826000-1730833200@ascensioncartersville.org
SUMMARY:Red Door Food Pantry
DESCRIPTION:
URL:https://ascensioncartersville.org/calendar/red-door-food-pantry-336/
END:VEVENT
BEGIN:VEVENT
DTSTART;TZID=America/New_York:20241106T090000
DTEND;TZID=America/New_York:20241106T110000
DTSTAMP:20260421T070112
CREATED:20240407T171726Z
LAST-MODIFIED:20240407T171726Z
UID:10003609-1730883600-1730890800@ascensioncartersville.org
SUMMARY:Red Door Food Pantry
DESCRIPTION:
URL:https://ascensioncartersville.org/calendar/red-door-food-pantry-337/
END:VEVENT
BEGIN:VEVENT
DTSTART;TZID=America/New_York:20241106T121500
DTEND;TZID=America/New_York:20241106T131500
DTSTAMP:20260421T070112
CREATED:20240407T171727Z
LAST-MODIFIED:20240407T171727Z
UID:10003611-1730895300-1730898900@ascensioncartersville.org
SUMMARY:Holy Eucharist with Healing
DESCRIPTION:
URL:https://ascensioncartersville.org/calendar/holy-eucharist-with-healing-170/
END:VEVENT
BEGIN:VEVENT
DTSTART;TZID=America/New_York:20241106T130000
DTEND;TZID=America/New_York:20241106T140000
DTSTAMP:20260421T070112
CREATED:20240407T171726Z
LAST-MODIFIED:20240407T171726Z
UID:10003610-1730898000-1730901600@ascensioncartersville.org
SUMMARY:Bible Study
DESCRIPTION:
URL:https://ascensioncartersville.org/calendar/bible-study-61/
END:VEVENT
BEGIN:VEVENT
DTSTART;TZID=America/New_York:20241106T170000
DTEND;TZID=America/New_York:20241106T180000
DTSTAMP:20260421T070112
CREATED:20241017T190210Z
LAST-MODIFIED:20241017T190210Z
UID:10004027-1730912400-1730916000@ascensioncartersville.org
SUMMARY:St. Cecilia Choir
DESCRIPTION:
URL:https://ascensioncartersville.org/calendar/st-cecilia-choir-4/
END:VEVENT
BEGIN:VEVENT
DTSTART;TZID=America/New_York:20241106T190000
DTEND;TZID=America/New_York:20241106T204500
DTSTAMP:20260421T070112
CREATED:20240926T163341Z
LAST-MODIFIED:20240926T163341Z
UID:10003993-1730919600-1730925900@ascensioncartersville.org
SUMMARY:Canterbury Choir Rehearsal
DESCRIPTION:
URL:https://ascensioncartersville.org/calendar/canterbury-choir-rehearsal-81/
END:VEVENT
BEGIN:VEVENT
DTSTART;TZID=America/New_York:20241107T063000
DTEND;TZID=America/New_York:20241107T080000
DTSTAMP:20260421T070112
CREATED:20240502T201910Z
LAST-MODIFIED:20240502T201910Z
UID:10003674-1730961000-1730966400@ascensioncartersville.org
SUMMARY:Christian Formation Meeting
DESCRIPTION:
URL:https://ascensioncartersville.org/calendar/christian-formation-meeting-9/
END:VEVENT
BEGIN:VEVENT
DTSTART;TZID=America/New_York:20241107T140000
DTEND;TZID=America/New_York:20241107T153000
DTSTAMP:20260421T070112
CREATED:20240428T194551Z
LAST-MODIFIED:20240428T194551Z
UID:10003666-1730988000-1730993400@ascensioncartersville.org
SUMMARY:Compassionate Friends Group
DESCRIPTION:
URL:https://ascensioncartersville.org/calendar/compassionate-friends-group-30/
END:VEVENT
BEGIN:VEVENT
DTSTART;TZID=America/New_York:20241107T180000
DTEND;TZID=America/New_York:20241107T193000
DTSTAMP:20260421T070112
CREATED:20240509T213423Z
LAST-MODIFIED:20240509T213423Z
UID:10003689-1731002400-1731007800@ascensioncartersville.org
SUMMARY:Christian Formation Meeting
DESCRIPTION:
URL:https://ascensioncartersville.org/calendar/christian-formation-meeting-15/
END:VEVENT
BEGIN:VEVENT
DTSTART;TZID=America/New_York:20241108T113000
DTEND;TZID=America/New_York:20241108T123000
DTSTAMP:20260421T070112
CREATED:20240407T171727Z
LAST-MODIFIED:20240407T171727Z
UID:10003612-1731065400-1731069000@ascensioncartersville.org
SUMMARY:Al-Anon Meeting
DESCRIPTION:Located in the Education room
URL:https://ascensioncartersville.org/calendar/al-anon-meeting-168/
END:VEVENT
BEGIN:VEVENT
DTSTART;TZID=America/New_York:20241108T190000
DTEND;TZID=America/New_York:20241108T210000
DTSTAMP:20260421T070112
CREATED:20240620T173209Z
LAST-MODIFIED:20240620T173209Z
UID:10003789-1731092400-1731099600@ascensioncartersville.org
SUMMARY:Ascension Coffee House
DESCRIPTION:
URL:https://ascensioncartersville.org/calendar/ascension-coffee-house-15/
END:VEVENT
BEGIN:VEVENT
DTSTART;TZID=America/New_York:20241109T090000
DTEND;TZID=America/New_York:20241109T103000
DTSTAMP:20260421T070112
CREATED:20240407T171727Z
LAST-MODIFIED:20240407T171727Z
UID:10003613-1731142800-1731148200@ascensioncartersville.org
SUMMARY:Men's Breakfast
DESCRIPTION:
URL:https://ascensioncartersville.org/calendar/mens-breakfast-14/
LOCATION:Parish Hall
END:VEVENT
BEGIN:VEVENT
DTSTART;TZID=America/New_York:20241110T074500
DTEND;TZID=America/New_York:20241110T084500
DTSTAMP:20260421T070112
CREATED:20240415T180042Z
LAST-MODIFIED:20240415T180042Z
UID:10003622-1731224700-1731228300@ascensioncartersville.org
SUMMARY:Holy Eucharist
DESCRIPTION:
URL:https://ascensioncartersville.org/calendar/holy-eucharist-89/
END:VEVENT
BEGIN:VEVENT
DTSTART;TZID=America/New_York:20241110T090000
DTEND;TZID=America/New_York:20241110T100000
DTSTAMP:20260421T070112
CREATED:20240415T180043Z
LAST-MODIFIED:20240415T180043Z
UID:10003623-1731229200-1731232800@ascensioncartersville.org
SUMMARY:All ages Service
DESCRIPTION:
URL:https://ascensioncartersville.org/calendar/all-ages-service-45/
END:VEVENT
BEGIN:VEVENT
DTSTART;TZID=America/New_York:20241110T110000
DTEND;TZID=America/New_York:20241110T120000
DTSTAMP:20260421T070112
CREATED:20240415T180043Z
LAST-MODIFIED:20240415T180043Z
UID:10003624-1731236400-1731240000@ascensioncartersville.org
SUMMARY:Holy Eucharist
DESCRIPTION:
URL:https://ascensioncartersville.org/calendar/holy-eucharist-90/
END:VEVENT
BEGIN:VEVENT
DTSTART;TZID=America/New_York:20241110T130000
DTEND;TZID=America/New_York:20241110T150000
DTSTAMP:20260421T070112
CREATED:20240913T144440Z
LAST-MODIFIED:20240913T144440Z
UID:10003973-1731243600-1731250800@ascensioncartersville.org
SUMMARY:Confirmation/Membership Classes
DESCRIPTION:
URL:https://ascensioncartersville.org/calendar/confirmation-membership-classes-3/
END:VEVENT
BEGIN:VEVENT
DTSTART;TZID=America/New_York:20241112T170000
DTEND;TZID=America/New_York:20241112T190000
DTSTAMP:20260421T070112
CREATED:20240415T180043Z
LAST-MODIFIED:20240415T180043Z
UID:10003625-1731430800-1731438000@ascensioncartersville.org
SUMMARY:Red Door Food Pantry
DESCRIPTION:
URL:https://ascensioncartersville.org/calendar/red-door-food-pantry-338/
END:VEVENT
BEGIN:VEVENT
DTSTART;TZID=America/New_York:20241112T170000
DTEND;TZID=America/New_York:20241112T210000
DTSTAMP:20260421T070112
CREATED:20241024T200352Z
LAST-MODIFIED:20241024T200352Z
UID:10004044-1731430800-1731445200@ascensioncartersville.org
SUMMARY:Women's Club
DESCRIPTION:
URL:https://ascensioncartersville.org/calendar/womens-club/
END:VEVENT
BEGIN:VEVENT
DTSTART;TZID=America/New_York:20241112T180000
DTEND;TZID=America/New_York:20241112T190000
DTSTAMP:20260421T070112
CREATED:20240415T180043Z
LAST-MODIFIED:20240415T180043Z
UID:10003626-1731434400-1731438000@ascensioncartersville.org
SUMMARY:Red Door Food Pantry Board Meeting
DESCRIPTION:
URL:https://ascensioncartersville.org/calendar/red-door-food-pantry-board-meeting-9/
END:VEVENT
BEGIN:VEVENT
DTSTART;TZID=America/New_York:20241113T090000
DTEND;TZID=America/New_York:20241113T110000
DTSTAMP:20260421T070112
CREATED:20240415T180044Z
LAST-MODIFIED:20240415T180044Z
UID:10003627-1731488400-1731495600@ascensioncartersville.org
SUMMARY:Red Door Food Pantry
DESCRIPTION:
URL:https://ascensioncartersville.org/calendar/red-door-food-pantry-339/
END:VEVENT
BEGIN:VEVENT
DTSTART;TZID=America/New_York:20241113T121500
DTEND;TZID=America/New_York:20241113T131500
DTSTAMP:20260421T070112
CREATED:20240501T200406Z
LAST-MODIFIED:20240501T200406Z
UID:10003667-1731500100-1731503700@ascensioncartersville.org
SUMMARY:Holy Eucharist with Healing
DESCRIPTION:
URL:https://ascensioncartersville.org/calendar/holy-eucharist-with-healing-171/
END:VEVENT
BEGIN:VEVENT
DTSTART;TZID=America/New_York:20241113T130000
DTEND;TZID=America/New_York:20241113T140000
DTSTAMP:20260421T070112
CREATED:20240505T204803Z
LAST-MODIFIED:20240505T204803Z
UID:10003675-1731502800-1731506400@ascensioncartersville.org
SUMMARY:Bible Study
DESCRIPTION:
URL:https://ascensioncartersville.org/calendar/bible-study-62/
END:VEVENT
BEGIN:VEVENT
DTSTART;TZID=America/New_York:20241113T170000
DTEND;TZID=America/New_York:20241113T180000
DTSTAMP:20260421T070112
CREATED:20241017T190211Z
LAST-MODIFIED:20241017T190211Z
UID:10004028-1731517200-1731520800@ascensioncartersville.org
SUMMARY:St. Cecilia Choir
DESCRIPTION:
URL:https://ascensioncartersville.org/calendar/st-cecilia-choir-5/
END:VEVENT
BEGIN:VEVENT
DTSTART;TZID=America/New_York:20241113T190000
DTEND;TZID=America/New_York:20241113T204500
DTSTAMP:20260421T070112
CREATED:20240926T163341Z
LAST-MODIFIED:20240926T163341Z
UID:10003994-1731524400-1731530700@ascensioncartersville.org
SUMMARY:Canterbury Choir Rehearsal
DESCRIPTION:
URL:https://ascensioncartersville.org/calendar/canterbury-choir-rehearsal-82/
END:VEVENT
BEGIN:VEVENT
DTSTART;TZID=America/New_York:20241114T140000
DTEND;TZID=America/New_York:20241114T153000
DTSTAMP:20260421T070112
CREATED:20240505T204803Z
LAST-MODIFIED:20240505T204803Z
UID:10003676-1731592800-1731598200@ascensioncartersville.org
SUMMARY:Compassionate Friends Group
DESCRIPTION:
URL:https://ascensioncartersville.org/calendar/compassionate-friends-group-31/
END:VEVENT
BEGIN:VEVENT
DTSTART;TZID=America/New_York:20241115T113000
DTEND;TZID=America/New_York:20241115T123000
DTSTAMP:20260421T070112
CREATED:20240505T204803Z
LAST-MODIFIED:20240505T204803Z
UID:10003677-1731670200-1731673800@ascensioncartersville.org
SUMMARY:Al-Anon Meeting
DESCRIPTION:Located in the Education room
URL:https://ascensioncartersville.org/calendar/al-anon-meeting-169/
END:VEVENT
END:VCALENDAR