BEGIN:VCALENDAR
VERSION:2.0
PRODID:-//Episcopal Church of the Ascension - ECPv6.15.20//NONSGML v1.0//EN
CALSCALE:GREGORIAN
METHOD:PUBLISH
X-ORIGINAL-URL:https://ascensioncartersville.org
X-WR-CALDESC:Events for Episcopal Church of the Ascension
REFRESH-INTERVAL;VALUE=DURATION:PT1H
X-Robots-Tag:noindex
X-PUBLISHED-TTL:PT1H
BEGIN:VTIMEZONE
TZID:America/New_York
BEGIN:DAYLIGHT
TZOFFSETFROM:-0500
TZOFFSETTO:-0400
TZNAME:EDT
DTSTART:20220313T070000
END:DAYLIGHT
BEGIN:STANDARD
TZOFFSETFROM:-0400
TZOFFSETTO:-0500
TZNAME:EST
DTSTART:20221106T060000
END:STANDARD
BEGIN:DAYLIGHT
TZOFFSETFROM:-0500
TZOFFSETTO:-0400
TZNAME:EDT
DTSTART:20230312T070000
END:DAYLIGHT
BEGIN:STANDARD
TZOFFSETFROM:-0400
TZOFFSETTO:-0500
TZNAME:EST
DTSTART:20231105T060000
END:STANDARD
BEGIN:DAYLIGHT
TZOFFSETFROM:-0500
TZOFFSETTO:-0400
TZNAME:EDT
DTSTART:20240310T070000
END:DAYLIGHT
BEGIN:STANDARD
TZOFFSETFROM:-0400
TZOFFSETTO:-0500
TZNAME:EST
DTSTART:20241103T060000
END:STANDARD
END:VTIMEZONE
BEGIN:VEVENT
DTSTART;TZID=America/New_York:20231213T111500
DTEND;TZID=America/New_York:20231213T121500
DTSTAMP:20260424T141759
CREATED:20231026T194835Z
LAST-MODIFIED:20231026T194835Z
UID:10003259-1702466100-1702469700@ascensioncartersville.org
SUMMARY:Pastoral Care Meeting
DESCRIPTION:
URL:https://ascensioncartersville.org/calendar/pastoral-care-meeting-51/
END:VEVENT
BEGIN:VEVENT
DTSTART;TZID=America/New_York:20231213T121500
DTEND;TZID=America/New_York:20231213T131500
DTSTAMP:20260424T141759
CREATED:20230726T144249Z
LAST-MODIFIED:20230726T144249Z
UID:10002811-1702469700-1702473300@ascensioncartersville.org
SUMMARY:Holy Eucharist with Healing
DESCRIPTION:
URL:https://ascensioncartersville.org/calendar/holy-eucharist-with-healing-123/
END:VEVENT
BEGIN:VEVENT
DTSTART;TZID=America/New_York:20231213T130000
DTEND;TZID=America/New_York:20231213T140000
DTSTAMP:20260424T141759
CREATED:20230824T223342Z
LAST-MODIFIED:20230824T223342Z
UID:10003074-1702472400-1702476000@ascensioncartersville.org
SUMMARY:Pastoral Care Meeting
DESCRIPTION:
URL:https://ascensioncartersville.org/calendar/pastoral-care-meeting-13/
END:VEVENT
BEGIN:VEVENT
DTSTART;TZID=America/New_York:20231213T130000
DTEND;TZID=America/New_York:20231213T140000
DTSTAMP:20260424T141759
CREATED:20230824T223342Z
LAST-MODIFIED:20230824T223342Z
UID:10003075-1702472400-1702476000@ascensioncartersville.org
SUMMARY:Bible Study
DESCRIPTION:
URL:https://ascensioncartersville.org/calendar/bible-study-14/
END:VEVENT
BEGIN:VEVENT
DTSTART;TZID=America/New_York:20231213T170000
DTEND;TZID=America/New_York:20231213T174500
DTSTAMP:20260424T141759
CREATED:20230824T223343Z
LAST-MODIFIED:20230824T223343Z
UID:10003076-1702486800-1702489500@ascensioncartersville.org
SUMMARY:St. Cecilia Choir Rehearsal
DESCRIPTION:
URL:https://ascensioncartersville.org/calendar/st-cecilia-choir-rehearsal-14/
END:VEVENT
BEGIN:VEVENT
DTSTART;TZID=America/New_York:20231213T180000
DTEND;TZID=America/New_York:20231213T190000
DTSTAMP:20260424T141759
CREATED:20231213T114646Z
LAST-MODIFIED:20231213T114646Z
UID:10003320-1702490400-1702494000@ascensioncartersville.org
SUMMARY:Director of Music Advisory committee Meeting
DESCRIPTION:
URL:https://ascensioncartersville.org/calendar/director-of-music-advisory-committee-meeting/
END:VEVENT
BEGIN:VEVENT
DTSTART;TZID=America/New_York:20231213T190000
DTEND;TZID=America/New_York:20231213T204500
DTSTAMP:20260424T141759
CREATED:20230824T223343Z
LAST-MODIFIED:20230824T223343Z
UID:10003077-1702494000-1702500300@ascensioncartersville.org
SUMMARY:Canterbury Choir Rehearsal
DESCRIPTION:
URL:https://ascensioncartersville.org/calendar/canterbury-choir-rehearsal-14/
END:VEVENT
BEGIN:VEVENT
DTSTART;TZID=America/New_York:20231214T180000
DTEND;TZID=America/New_York:20231214T190000
DTSTAMP:20260424T141759
CREATED:20230831T094917Z
LAST-MODIFIED:20230831T094917Z
UID:10003174-1702576800-1702580400@ascensioncartersville.org
SUMMARY:Chrismon Event / Family Night
DESCRIPTION:Dinner (Chick-fil-a)
URL:https://ascensioncartersville.org/calendar/chrismon-event-family-night/
END:VEVENT
BEGIN:VEVENT
DTSTART;TZID=America/New_York:20231215T113000
DTEND;TZID=America/New_York:20231215T123000
DTSTAMP:20260424T141759
CREATED:20230726T144249Z
LAST-MODIFIED:20230726T144249Z
UID:10002812-1702639800-1702643400@ascensioncartersville.org
SUMMARY:Al-Anon Meeting
DESCRIPTION:Located in the Education room
URL:https://ascensioncartersville.org/calendar/al-anon-meeting-121/
END:VEVENT
BEGIN:VEVENT
DTSTART;TZID=America/New_York:20231216T090000
DTEND;TZID=America/New_York:20231216T130000
DTSTAMP:20260424T141759
CREATED:20230831T094917Z
LAST-MODIFIED:20230831T094917Z
UID:10003175-1702717200-1702731600@ascensioncartersville.org
SUMMARY:Mobile Food Pantry
DESCRIPTION:
URL:https://ascensioncartersville.org/calendar/mobile-food-pantry-4/
END:VEVENT
BEGIN:VEVENT
DTSTART;TZID=America/New_York:20231216T100000
DTEND;TZID=America/New_York:20231216T140000
DTSTAMP:20260424T141759
CREATED:20231007T170443Z
LAST-MODIFIED:20231007T170443Z
UID:10003237-1702720800-1702735200@ascensioncartersville.org
SUMMARY:Advent Quiet Day
DESCRIPTION:
URL:https://ascensioncartersville.org/calendar/advent-quiet-day/
END:VEVENT
BEGIN:VEVENT
DTSTART;TZID=America/New_York:20231217T090000
DTEND;TZID=America/New_York:20231217T100000
DTSTAMP:20260424T141759
CREATED:20230726T144249Z
LAST-MODIFIED:20230726T144249Z
UID:10002813-1702803600-1702807200@ascensioncartersville.org
SUMMARY:Family Service
DESCRIPTION:
URL:https://ascensioncartersville.org/calendar/family-service-103/
END:VEVENT
BEGIN:VEVENT
DTSTART;TZID=America/New_York:20231217T100000
DTEND;TZID=America/New_York:20231217T104500
DTSTAMP:20260424T141759
CREATED:20230831T094917Z
LAST-MODIFIED:20230831T094917Z
UID:10003177-1702807200-1702809900@ascensioncartersville.org
SUMMARY:Canterbury Choir Rehearsal
DESCRIPTION:
URL:https://ascensioncartersville.org/calendar/canterbury-choir-rehearsal-41/
END:VEVENT
BEGIN:VEVENT
DTSTART;TZID=America/New_York:20231217T100000
DTEND;TZID=America/New_York:20231217T110000
DTSTAMP:20260424T141759
CREATED:20230726T144249Z
LAST-MODIFIED:20230726T144249Z
UID:10002814-1702807200-1702810800@ascensioncartersville.org
SUMMARY:Christian Formation Hour
DESCRIPTION:
URL:https://ascensioncartersville.org/calendar/christian-formation-hour-103/
END:VEVENT
BEGIN:VEVENT
DTSTART;TZID=America/New_York:20231217T100000
DTEND;TZID=America/New_York:20231217T110000
DTSTAMP:20260424T141759
CREATED:20230831T094917Z
LAST-MODIFIED:20230831T094917Z
UID:10003176-1702807200-1702810800@ascensioncartersville.org
SUMMARY:Christmas Pageant Rehearsal
DESCRIPTION:
URL:https://ascensioncartersville.org/calendar/christmas-pageant-rehearsal-2/
END:VEVENT
BEGIN:VEVENT
DTSTART;TZID=America/New_York:20231217T123000
DTEND;TZID=America/New_York:20231217T133000
DTSTAMP:20260424T141759
CREATED:20230831T094917Z
LAST-MODIFIED:20230831T094917Z
UID:10003178-1702816200-1702819800@ascensioncartersville.org
SUMMARY:Vestry Meeting
DESCRIPTION:No meditation
URL:https://ascensioncartersville.org/calendar/vestry-meeting-4/
END:VEVENT
BEGIN:VEVENT
DTSTART;TZID=America/New_York:20231217T170000
DTEND;TZID=America/New_York:20231217T190000
DTSTAMP:20260424T141759
CREATED:20231115T223028Z
LAST-MODIFIED:20231115T223028Z
UID:10003295-1702832400-1702839600@ascensioncartersville.org
SUMMARY:Ascension EYC Christmas Partay
DESCRIPTION:All youth are invited to join in to celebrate the holiday season with holiday themed games\, ornament making\, food\, and fellowship!
URL:https://ascensioncartersville.org/calendar/ascension-eyc-christmas-partay/
END:VEVENT
BEGIN:VEVENT
DTSTART;TZID=America/New_York:20231219T170000
DTEND;TZID=America/New_York:20231219T190000
DTSTAMP:20260424T141759
CREATED:20230726T144249Z
LAST-MODIFIED:20230726T144249Z
UID:10002815-1703005200-1703012400@ascensioncartersville.org
SUMMARY:Red Door Food Pantry
DESCRIPTION:
URL:https://ascensioncartersville.org/calendar/red-door-food-pantry-244/
END:VEVENT
BEGIN:VEVENT
DTSTART;TZID=America/New_York:20231220T090000
DTEND;TZID=America/New_York:20231220T110000
DTSTAMP:20260424T141759
CREATED:20230726T144250Z
LAST-MODIFIED:20230726T144250Z
UID:10002816-1703062800-1703070000@ascensioncartersville.org
SUMMARY:Red Door Food Pantry
DESCRIPTION:
URL:https://ascensioncartersville.org/calendar/red-door-food-pantry-245/
END:VEVENT
BEGIN:VEVENT
DTSTART;TZID=America/New_York:20231220T111500
DTEND;TZID=America/New_York:20231220T121500
DTSTAMP:20260424T141759
CREATED:20231004T162930Z
LAST-MODIFIED:20231004T162930Z
UID:10003224-1703070900-1703074500@ascensioncartersville.org
SUMMARY:Pastoral Care Meeting
DESCRIPTION:
URL:https://ascensioncartersville.org/calendar/pastoral-care-meeting-36/
END:VEVENT
BEGIN:VEVENT
DTSTART;TZID=America/New_York:20231220T111500
DTEND;TZID=America/New_York:20231220T121500
DTSTAMP:20260424T141759
CREATED:20231213T114647Z
LAST-MODIFIED:20231213T114647Z
UID:10003321-1703070900-1703074500@ascensioncartersville.org
SUMMARY:Pastoral Care Meeting
DESCRIPTION:In Ascension House Library
URL:https://ascensioncartersville.org/calendar/pastoral-care-meeting-57/
END:VEVENT
BEGIN:VEVENT
DTSTART;TZID=America/New_York:20231220T121500
DTEND;TZID=America/New_York:20231220T131500
DTSTAMP:20260424T141759
CREATED:20230726T144250Z
LAST-MODIFIED:20230726T144250Z
UID:10002817-1703074500-1703078100@ascensioncartersville.org
SUMMARY:Holy Eucharist with Healing
DESCRIPTION:
URL:https://ascensioncartersville.org/calendar/holy-eucharist-with-healing-124/
END:VEVENT
BEGIN:VEVENT
DTSTART;TZID=America/New_York:20231220T130000
DTEND;TZID=America/New_York:20231220T140000
DTSTAMP:20260424T141759
CREATED:20230824T223343Z
LAST-MODIFIED:20230824T223343Z
UID:10003078-1703077200-1703080800@ascensioncartersville.org
SUMMARY:Pastoral Care Meeting
DESCRIPTION:
URL:https://ascensioncartersville.org/calendar/pastoral-care-meeting-14/
END:VEVENT
BEGIN:VEVENT
DTSTART;TZID=America/New_York:20231220T130000
DTEND;TZID=America/New_York:20231220T140000
DTSTAMP:20260424T141759
CREATED:20230824T223343Z
LAST-MODIFIED:20230824T223343Z
UID:10003079-1703077200-1703080800@ascensioncartersville.org
SUMMARY:Bible Study
DESCRIPTION:
URL:https://ascensioncartersville.org/calendar/bible-study-15/
END:VEVENT
BEGIN:VEVENT
DTSTART;TZID=America/New_York:20231220T170000
DTEND;TZID=America/New_York:20231220T174500
DTSTAMP:20260424T141759
CREATED:20230824T223343Z
LAST-MODIFIED:20230824T223343Z
UID:10003080-1703091600-1703094300@ascensioncartersville.org
SUMMARY:St. Cecilia Choir Rehearsal
DESCRIPTION:
URL:https://ascensioncartersville.org/calendar/st-cecilia-choir-rehearsal-15/
END:VEVENT
BEGIN:VEVENT
DTSTART;TZID=America/New_York:20231220T190000
DTEND;TZID=America/New_York:20231220T204500
DTSTAMP:20260424T141759
CREATED:20230824T223343Z
LAST-MODIFIED:20230824T223343Z
UID:10003081-1703098800-1703105100@ascensioncartersville.org
SUMMARY:Canterbury Choir Rehearsal
DESCRIPTION:
URL:https://ascensioncartersville.org/calendar/canterbury-choir-rehearsal-15/
END:VEVENT
BEGIN:VEVENT
DTSTART;TZID=America/New_York:20231221T083000
DTEND;TZID=America/New_York:20231221T110000
DTSTAMP:20260424T141759
CREATED:20231208T110250Z
LAST-MODIFIED:20231208T110250Z
UID:10003314-1703147400-1703156400@ascensioncartersville.org
SUMMARY:Silver Sneakers Christmas Party
DESCRIPTION:Located in Parish Hall
URL:https://ascensioncartersville.org/calendar/silver-sneakers-christmas-party/
END:VEVENT
BEGIN:VEVENT
DTSTART;TZID=America/New_York:20231222T113000
DTEND;TZID=America/New_York:20231222T123000
DTSTAMP:20260424T141759
CREATED:20230726T144250Z
LAST-MODIFIED:20230726T144250Z
UID:10002818-1703244600-1703248200@ascensioncartersville.org
SUMMARY:Al-Anon Meeting
DESCRIPTION:Located in the Education room
URL:https://ascensioncartersville.org/calendar/al-anon-meeting-122/
END:VEVENT
BEGIN:VEVENT
DTSTART;TZID=America/New_York:20231223T090000
DTEND;TZID=America/New_York:20231223T110000
DTSTAMP:20260424T141759
CREATED:20230831T094917Z
LAST-MODIFIED:20230831T094917Z
UID:10003179-1703322000-1703329200@ascensioncartersville.org
SUMMARY:Flower Guild
DESCRIPTION:
URL:https://ascensioncartersville.org/calendar/flower-guild-2/
END:VEVENT
BEGIN:VEVENT
DTSTART;VALUE=DATE:20231224
DTEND;VALUE=DATE:20231225
DTSTAMP:20260424T141759
CREATED:20231215T120304Z
LAST-MODIFIED:20231215T120304Z
UID:10003382-1703376000-1703462399@ascensioncartersville.org
SUMMARY:OFFICE CLOSED
DESCRIPTION:
URL:https://ascensioncartersville.org/calendar/office-closed/
END:VEVENT
END:VCALENDAR