BEGIN:VCALENDAR
VERSION:2.0
PRODID:-//Episcopal Church of the Ascension - ECPv6.15.20//NONSGML v1.0//EN
CALSCALE:GREGORIAN
METHOD:PUBLISH
X-ORIGINAL-URL:https://ascensioncartersville.org
X-WR-CALDESC:Events for Episcopal Church of the Ascension
REFRESH-INTERVAL;VALUE=DURATION:PT1H
X-Robots-Tag:noindex
X-PUBLISHED-TTL:PT1H
BEGIN:VTIMEZONE
TZID:America/New_York
BEGIN:DAYLIGHT
TZOFFSETFROM:-0500
TZOFFSETTO:-0400
TZNAME:EDT
DTSTART:20250309T070000
END:DAYLIGHT
BEGIN:STANDARD
TZOFFSETFROM:-0400
TZOFFSETTO:-0500
TZNAME:EST
DTSTART:20251102T060000
END:STANDARD
BEGIN:DAYLIGHT
TZOFFSETFROM:-0500
TZOFFSETTO:-0400
TZNAME:EDT
DTSTART:20260308T070000
END:DAYLIGHT
BEGIN:STANDARD
TZOFFSETFROM:-0400
TZOFFSETTO:-0500
TZNAME:EST
DTSTART:20261101T060000
END:STANDARD
BEGIN:DAYLIGHT
TZOFFSETFROM:-0500
TZOFFSETTO:-0400
TZNAME:EDT
DTSTART:20270314T070000
END:DAYLIGHT
BEGIN:STANDARD
TZOFFSETFROM:-0400
TZOFFSETTO:-0500
TZNAME:EST
DTSTART:20271107T060000
END:STANDARD
END:VTIMEZONE
BEGIN:VEVENT
DTSTART;TZID=America/New_York:20260218T121500
DTEND;TZID=America/New_York:20260218T131500
DTSTAMP:20260425T224829
CREATED:20260204T152723Z
LAST-MODIFIED:20260204T152723Z
UID:10004687-1771416900-1771420500@ascensioncartersville.org
SUMMARY:Midweek Service
DESCRIPTION:
URL:https://ascensioncartersville.org/calendar/midweek-service-39/
END:VEVENT
BEGIN:VEVENT
DTSTART;TZID=America/New_York:20260218T130000
DTEND;TZID=America/New_York:20260218T140000
DTSTAMP:20260425T224829
CREATED:20260204T152723Z
LAST-MODIFIED:20260204T152723Z
UID:10004688-1771419600-1771423200@ascensioncartersville.org
SUMMARY:Pastoral Care Meeting
DESCRIPTION:In Ascension House Library
URL:https://ascensioncartersville.org/calendar/pastoral-care-meeting-94/
END:VEVENT
BEGIN:VEVENT
DTSTART;TZID=America/New_York:20260218T170000
DTEND;TZID=America/New_York:20260218T174500
DTSTAMP:20260425T224829
CREATED:20260204T152723Z
LAST-MODIFIED:20260204T152723Z
UID:10004689-1771434000-1771436700@ascensioncartersville.org
SUMMARY:St. Cecilia Choir
DESCRIPTION:
URL:https://ascensioncartersville.org/calendar/st-cecilia-choir-32/
END:VEVENT
BEGIN:VEVENT
DTSTART;VALUE=DATE:20260219
DTEND;VALUE=DATE:20260225
DTSTAMP:20260425T224829
CREATED:20260204T152726Z
LAST-MODIFIED:20260204T152726Z
UID:10004697-1771459200-1771977599@ascensioncartersville.org
SUMMARY:City Schools Winter Break
DESCRIPTION:
URL:https://ascensioncartersville.org/calendar/city-schools-winter-break/
END:VEVENT
BEGIN:VEVENT
DTSTART;TZID=America/New_York:20260220T113000
DTEND;TZID=America/New_York:20260220T123000
DTSTAMP:20260425T224829
CREATED:20260204T152724Z
LAST-MODIFIED:20260204T152724Z
UID:10004690-1771587000-1771590600@ascensioncartersville.org
SUMMARY:Al-Anon Meeting
DESCRIPTION:Located in the Education room
URL:https://ascensioncartersville.org/calendar/al-anon-meeting-229/
END:VEVENT
BEGIN:VEVENT
DTSTART;TZID=America/New_York:20260221T163000
DTEND;TZID=America/New_York:20260221T180000
DTSTAMP:20260425T224829
CREATED:20260204T152724Z
LAST-MODIFIED:20260204T152724Z
UID:10004691-1771691400-1771696800@ascensioncartersville.org
SUMMARY:Newcomers Reception
DESCRIPTION:
URL:https://ascensioncartersville.org/calendar/newcomers-reception-3/
END:VEVENT
BEGIN:VEVENT
DTSTART;TZID=America/New_York:20260222T074500
DTEND;TZID=America/New_York:20260222T084500
DTSTAMP:20260425T224829
CREATED:20260204T152724Z
LAST-MODIFIED:20260204T152724Z
UID:10004692-1771746300-1771749900@ascensioncartersville.org
SUMMARY:Holy Eucharist
DESCRIPTION:
URL:https://ascensioncartersville.org/calendar/holy-eucharist-262/
END:VEVENT
BEGIN:VEVENT
DTSTART;TZID=America/New_York:20260222T090000
DTEND;TZID=America/New_York:20260222T100000
DTSTAMP:20260425T224829
CREATED:20260204T152724Z
LAST-MODIFIED:20260204T152724Z
UID:10004693-1771750800-1771754400@ascensioncartersville.org
SUMMARY:All Ages Service
DESCRIPTION:
URL:https://ascensioncartersville.org/calendar/all-ages-service-140/
END:VEVENT
BEGIN:VEVENT
DTSTART;TZID=America/New_York:20260222T100000
DTEND;TZID=America/New_York:20260222T104500
DTSTAMP:20260425T224829
CREATED:20260204T152725Z
LAST-MODIFIED:20260204T152725Z
UID:10004694-1771754400-1771757100@ascensioncartersville.org
SUMMARY:Membership class
DESCRIPTION:
URL:https://ascensioncartersville.org/calendar/membership-class-4/
END:VEVENT
BEGIN:VEVENT
DTSTART;TZID=America/New_York:20260222T110000
DTEND;TZID=America/New_York:20260222T120000
DTSTAMP:20260425T224829
CREATED:20260204T152725Z
LAST-MODIFIED:20260204T152725Z
UID:10004695-1771758000-1771761600@ascensioncartersville.org
SUMMARY:Holy Eucharist
DESCRIPTION:
URL:https://ascensioncartersville.org/calendar/holy-eucharist-263/
END:VEVENT
BEGIN:VEVENT
DTSTART;TZID=America/New_York:20260224T170000
DTEND;TZID=America/New_York:20260224T190000
DTSTAMP:20260425T224829
CREATED:20260204T152725Z
LAST-MODIFIED:20260204T152725Z
UID:10004696-1771952400-1771959600@ascensioncartersville.org
SUMMARY:Red Door Food Pantry
DESCRIPTION:
URL:https://ascensioncartersville.org/calendar/red-door-food-pantry-461/
END:VEVENT
BEGIN:VEVENT
DTSTART;TZID=America/New_York:20260225T090000
DTEND;TZID=America/New_York:20260225T110000
DTSTAMP:20260425T224829
CREATED:20260204T152726Z
LAST-MODIFIED:20260204T152726Z
UID:10004698-1772010000-1772017200@ascensioncartersville.org
SUMMARY:Red Door Food Pantry
DESCRIPTION:
URL:https://ascensioncartersville.org/calendar/red-door-food-pantry-462/
END:VEVENT
BEGIN:VEVENT
DTSTART;TZID=America/New_York:20260225T121500
DTEND;TZID=America/New_York:20260225T131500
DTSTAMP:20260425T224829
CREATED:20260204T152726Z
LAST-MODIFIED:20260204T152726Z
UID:10004699-1772021700-1772025300@ascensioncartersville.org
SUMMARY:Midweek Service
DESCRIPTION:
URL:https://ascensioncartersville.org/calendar/midweek-service-40/
END:VEVENT
BEGIN:VEVENT
DTSTART;TZID=America/New_York:20260225T170000
DTEND;TZID=America/New_York:20260225T174500
DTSTAMP:20260425T224829
CREATED:20260204T152726Z
LAST-MODIFIED:20260204T152726Z
UID:10004700-1772038800-1772041500@ascensioncartersville.org
SUMMARY:St. Cecilia Choir
DESCRIPTION:
URL:https://ascensioncartersville.org/calendar/st-cecilia-choir-33/
END:VEVENT
BEGIN:VEVENT
DTSTART;TZID=America/New_York:20260225T173000
DTEND;TZID=America/New_York:20260225T183000
DTSTAMP:20260425T224829
CREATED:20260204T152726Z
LAST-MODIFIED:20260204T152726Z
UID:10004701-1772040600-1772044200@ascensioncartersville.org
SUMMARY:Lenten Supper
DESCRIPTION:
URL:https://ascensioncartersville.org/calendar/lenten-supper/
END:VEVENT
BEGIN:VEVENT
DTSTART;TZID=America/New_York:20260225T173000
DTEND;TZID=America/New_York:20260225T190000
DTSTAMP:20260425T224829
CREATED:20260204T152727Z
LAST-MODIFIED:20260204T152727Z
UID:10004702-1772040600-1772046000@ascensioncartersville.org
SUMMARY:Gather in the Middle
DESCRIPTION:
URL:https://ascensioncartersville.org/calendar/gather-in-the-middle-3/
LOCATION:Tonsmeire Hall
END:VEVENT
BEGIN:VEVENT
DTSTART;TZID=America/New_York:20260226T103000
DTEND;TZID=America/New_York:20260226T120000
DTSTAMP:20260425T224829
CREATED:20260204T152727Z
LAST-MODIFIED:20260204T152727Z
UID:10004703-1772101800-1772107200@ascensioncartersville.org
SUMMARY:Women's Brunch
DESCRIPTION:
URL:https://ascensioncartersville.org/calendar/womens-brunch-9/
LOCATION:IHOP\, 640 E Main St\, Cartersville\, GA\, United States
GEO:34.171068;-84.783153
X-APPLE-STRUCTURED-LOCATION;VALUE=URI;X-ADDRESS=IHOP 640 E Main St Cartersville GA United States;X-APPLE-RADIUS=500;X-TITLE=640 E Main St:geo:-84.783153,34.171068
END:VEVENT
BEGIN:VEVENT
DTSTART;TZID=America/New_York:20260226T120000
DTEND;TZID=America/New_York:20260226T130000
DTSTAMP:20260425T224829
CREATED:20260204T152727Z
LAST-MODIFIED:20260204T152727Z
UID:10004704-1772107200-1772110800@ascensioncartersville.org
SUMMARY:Lenten Lunches
DESCRIPTION:
URL:https://ascensioncartersville.org/calendar/lenten-lunches/
LOCATION:Trinity United Methodist Church\, 814 West Ave\, Cartersville\, GA\, United States
GEO:34.159169;-84.81091
X-APPLE-STRUCTURED-LOCATION;VALUE=URI;X-ADDRESS=Trinity United Methodist Church 814 West Ave Cartersville GA United States;X-APPLE-RADIUS=500;X-TITLE=814 West Ave:geo:-84.81091,34.159169
END:VEVENT
BEGIN:VEVENT
DTSTART;TZID=America/New_York:20260226T180000
DTEND;TZID=America/New_York:20260226T193000
DTSTAMP:20260425T224829
CREATED:20260204T152727Z
LAST-MODIFIED:20260204T152727Z
UID:10004706-1772128800-1772134200@ascensioncartersville.org
SUMMARY:Vestry Meeting
DESCRIPTION:
URL:https://ascensioncartersville.org/calendar/vestry-meeting-35/
END:VEVENT
BEGIN:VEVENT
DTSTART;VALUE=DATE:20260227
DTEND;VALUE=DATE:20260301
DTSTAMP:20260425T224829
CREATED:20260204T152727Z
LAST-MODIFIED:20260204T152727Z
UID:10004705-1772150400-1772323199@ascensioncartersville.org
SUMMARY:Vestry Retreat
DESCRIPTION:
URL:https://ascensioncartersville.org/calendar/vestry-retreat-3/
LOCATION:Unicoi State Park & Lodge\, Helen\, GA\, United States
GEO:34.729196;-83.720937
END:VEVENT
BEGIN:VEVENT
DTSTART;TZID=America/New_York:20260227T113000
DTEND;TZID=America/New_York:20260227T123000
DTSTAMP:20260425T224829
CREATED:20260204T152728Z
LAST-MODIFIED:20260204T152728Z
UID:10004707-1772191800-1772195400@ascensioncartersville.org
SUMMARY:Al-Anon Meeting
DESCRIPTION:Located in the Education room
URL:https://ascensioncartersville.org/calendar/al-anon-meeting-230/
END:VEVENT
BEGIN:VEVENT
DTSTART;TZID=America/New_York:20260228T090000
DTEND;TZID=America/New_York:20260228T110000
DTSTAMP:20260425T224829
CREATED:20260204T152728Z
LAST-MODIFIED:20260204T152728Z
UID:10004708-1772269200-1772276400@ascensioncartersville.org
SUMMARY:Brotherhood of St. Andrew
DESCRIPTION:
URL:https://ascensioncartersville.org/calendar/brotherhood-of-st-andrew-16/
END:VEVENT
BEGIN:VEVENT
DTSTART;TZID=America/New_York:20260301T074500
DTEND;TZID=America/New_York:20260301T084500
DTSTAMP:20260425T224829
CREATED:20260204T152728Z
LAST-MODIFIED:20260204T152728Z
UID:10004709-1772351100-1772354700@ascensioncartersville.org
SUMMARY:Holy Eucharist
DESCRIPTION:
URL:https://ascensioncartersville.org/calendar/holy-eucharist-264/
END:VEVENT
BEGIN:VEVENT
DTSTART;TZID=America/New_York:20260301T090000
DTEND;TZID=America/New_York:20260301T100000
DTSTAMP:20260425T224829
CREATED:20260204T152728Z
LAST-MODIFIED:20260204T152728Z
UID:10004711-1772355600-1772359200@ascensioncartersville.org
SUMMARY:All Ages Service
DESCRIPTION:
URL:https://ascensioncartersville.org/calendar/all-ages-service-141/
END:VEVENT
BEGIN:VEVENT
DTSTART;TZID=America/New_York:20260301T100000
DTEND;TZID=America/New_York:20260301T104500
DTSTAMP:20260425T224829
CREATED:20260204T152728Z
LAST-MODIFIED:20260204T152728Z
UID:10004710-1772359200-1772361900@ascensioncartersville.org
SUMMARY:Christian Formation -All Ages
DESCRIPTION:
URL:https://ascensioncartersville.org/calendar/christian-formation-all-ages-35/
END:VEVENT
BEGIN:VEVENT
DTSTART;TZID=America/New_York:20260301T110000
DTEND;TZID=America/New_York:20260301T120000
DTSTAMP:20260425T224829
CREATED:20260204T152729Z
LAST-MODIFIED:20260204T152729Z
UID:10004712-1772362800-1772366400@ascensioncartersville.org
SUMMARY:Holy Eucharist
DESCRIPTION:
URL:https://ascensioncartersville.org/calendar/holy-eucharist-265/
END:VEVENT
BEGIN:VEVENT
DTSTART;TZID=America/New_York:20260303T170000
DTEND;TZID=America/New_York:20260303T190000
DTSTAMP:20260425T224829
CREATED:20260204T152729Z
LAST-MODIFIED:20260204T152729Z
UID:10004713-1772557200-1772564400@ascensioncartersville.org
SUMMARY:Red Door Food Pantry
DESCRIPTION:
URL:https://ascensioncartersville.org/calendar/red-door-food-pantry-463/
END:VEVENT
BEGIN:VEVENT
DTSTART;TZID=America/New_York:20260304T090000
DTEND;TZID=America/New_York:20260304T110000
DTSTAMP:20260425T224829
CREATED:20260204T152729Z
LAST-MODIFIED:20260204T152729Z
UID:10004714-1772614800-1772622000@ascensioncartersville.org
SUMMARY:Red Door Food Pantry
DESCRIPTION:
URL:https://ascensioncartersville.org/calendar/red-door-food-pantry-464/
END:VEVENT
BEGIN:VEVENT
DTSTART;TZID=America/New_York:20260304T121500
DTEND;TZID=America/New_York:20260304T131500
DTSTAMP:20260425T224829
CREATED:20260204T152730Z
LAST-MODIFIED:20260204T152730Z
UID:10004715-1772626500-1772630100@ascensioncartersville.org
SUMMARY:Midweek Service
DESCRIPTION:
URL:https://ascensioncartersville.org/calendar/midweek-service-41/
END:VEVENT
BEGIN:VEVENT
DTSTART;TZID=America/New_York:20260304T170000
DTEND;TZID=America/New_York:20260304T174500
DTSTAMP:20260425T224829
CREATED:20260204T152730Z
LAST-MODIFIED:20260204T152730Z
UID:10004717-1772643600-1772646300@ascensioncartersville.org
SUMMARY:St. Cecilia Choir
DESCRIPTION:
URL:https://ascensioncartersville.org/calendar/st-cecilia-choir-34/
END:VEVENT
END:VCALENDAR