BEGIN:VCALENDAR
VERSION:2.0
PRODID:-//Episcopal Church of the Ascension - ECPv6.15.20//NONSGML v1.0//EN
CALSCALE:GREGORIAN
METHOD:PUBLISH
X-WR-CALNAME:Episcopal Church of the Ascension
X-ORIGINAL-URL:https://ascensioncartersville.org
X-WR-CALDESC:Events for Episcopal Church of the Ascension
REFRESH-INTERVAL;VALUE=DURATION:PT1H
X-Robots-Tag:noindex
X-PUBLISHED-TTL:PT1H
BEGIN:VTIMEZONE
TZID:America/New_York
BEGIN:DAYLIGHT
TZOFFSETFROM:-0500
TZOFFSETTO:-0400
TZNAME:EDT
DTSTART:20220313T070000
END:DAYLIGHT
BEGIN:STANDARD
TZOFFSETFROM:-0400
TZOFFSETTO:-0500
TZNAME:EST
DTSTART:20221106T060000
END:STANDARD
BEGIN:DAYLIGHT
TZOFFSETFROM:-0500
TZOFFSETTO:-0400
TZNAME:EDT
DTSTART:20230312T070000
END:DAYLIGHT
BEGIN:STANDARD
TZOFFSETFROM:-0400
TZOFFSETTO:-0500
TZNAME:EST
DTSTART:20231105T060000
END:STANDARD
BEGIN:DAYLIGHT
TZOFFSETFROM:-0500
TZOFFSETTO:-0400
TZNAME:EDT
DTSTART:20240310T070000
END:DAYLIGHT
BEGIN:STANDARD
TZOFFSETFROM:-0400
TZOFFSETTO:-0500
TZNAME:EST
DTSTART:20241103T060000
END:STANDARD
END:VTIMEZONE
BEGIN:VEVENT
DTSTART;TZID=America/New_York:20231217T100000
DTEND;TZID=America/New_York:20231217T110000
DTSTAMP:20260425T074127
CREATED:20230726T144249Z
LAST-MODIFIED:20230726T144249Z
UID:10002814-1702807200-1702810800@ascensioncartersville.org
SUMMARY:Christian Formation Hour
DESCRIPTION:
URL:https://ascensioncartersville.org/calendar/christian-formation-hour-103/
END:VEVENT
BEGIN:VEVENT
DTSTART;TZID=America/New_York:20231217T100000
DTEND;TZID=America/New_York:20231217T104500
DTSTAMP:20260425T074127
CREATED:20230831T094917Z
LAST-MODIFIED:20230831T094917Z
UID:10003177-1702807200-1702809900@ascensioncartersville.org
SUMMARY:Canterbury Choir Rehearsal
DESCRIPTION:
URL:https://ascensioncartersville.org/calendar/canterbury-choir-rehearsal-41/
END:VEVENT
BEGIN:VEVENT
DTSTART;TZID=America/New_York:20231217T090000
DTEND;TZID=America/New_York:20231217T100000
DTSTAMP:20260425T074127
CREATED:20230726T144249Z
LAST-MODIFIED:20230726T144249Z
UID:10002813-1702803600-1702807200@ascensioncartersville.org
SUMMARY:Family Service
DESCRIPTION:
URL:https://ascensioncartersville.org/calendar/family-service-103/
END:VEVENT
BEGIN:VEVENT
DTSTART;TZID=America/New_York:20231216T100000
DTEND;TZID=America/New_York:20231216T140000
DTSTAMP:20260425T074127
CREATED:20231007T170443Z
LAST-MODIFIED:20231007T170443Z
UID:10003237-1702720800-1702735200@ascensioncartersville.org
SUMMARY:Advent Quiet Day
DESCRIPTION:
URL:https://ascensioncartersville.org/calendar/advent-quiet-day/
END:VEVENT
BEGIN:VEVENT
DTSTART;TZID=America/New_York:20231216T090000
DTEND;TZID=America/New_York:20231216T130000
DTSTAMP:20260425T074127
CREATED:20230831T094917Z
LAST-MODIFIED:20230831T094917Z
UID:10003175-1702717200-1702731600@ascensioncartersville.org
SUMMARY:Mobile Food Pantry
DESCRIPTION:
URL:https://ascensioncartersville.org/calendar/mobile-food-pantry-4/
END:VEVENT
BEGIN:VEVENT
DTSTART;TZID=America/New_York:20231215T113000
DTEND;TZID=America/New_York:20231215T123000
DTSTAMP:20260425T074127
CREATED:20230726T144249Z
LAST-MODIFIED:20230726T144249Z
UID:10002812-1702639800-1702643400@ascensioncartersville.org
SUMMARY:Al-Anon Meeting
DESCRIPTION:Located in the Education room
URL:https://ascensioncartersville.org/calendar/al-anon-meeting-121/
END:VEVENT
BEGIN:VEVENT
DTSTART;TZID=America/New_York:20231214T180000
DTEND;TZID=America/New_York:20231214T190000
DTSTAMP:20260425T074127
CREATED:20230831T094917Z
LAST-MODIFIED:20230831T094917Z
UID:10003174-1702576800-1702580400@ascensioncartersville.org
SUMMARY:Chrismon Event / Family Night
DESCRIPTION:Dinner (Chick-fil-a)
URL:https://ascensioncartersville.org/calendar/chrismon-event-family-night/
END:VEVENT
BEGIN:VEVENT
DTSTART;TZID=America/New_York:20231213T190000
DTEND;TZID=America/New_York:20231213T204500
DTSTAMP:20260425T074127
CREATED:20230824T223343Z
LAST-MODIFIED:20230824T223343Z
UID:10003077-1702494000-1702500300@ascensioncartersville.org
SUMMARY:Canterbury Choir Rehearsal
DESCRIPTION:
URL:https://ascensioncartersville.org/calendar/canterbury-choir-rehearsal-14/
END:VEVENT
BEGIN:VEVENT
DTSTART;TZID=America/New_York:20231213T180000
DTEND;TZID=America/New_York:20231213T190000
DTSTAMP:20260425T074127
CREATED:20231213T114646Z
LAST-MODIFIED:20231213T114646Z
UID:10003320-1702490400-1702494000@ascensioncartersville.org
SUMMARY:Director of Music Advisory committee Meeting
DESCRIPTION:
URL:https://ascensioncartersville.org/calendar/director-of-music-advisory-committee-meeting/
END:VEVENT
BEGIN:VEVENT
DTSTART;TZID=America/New_York:20231213T170000
DTEND;TZID=America/New_York:20231213T174500
DTSTAMP:20260425T074127
CREATED:20230824T223343Z
LAST-MODIFIED:20230824T223343Z
UID:10003076-1702486800-1702489500@ascensioncartersville.org
SUMMARY:St. Cecilia Choir Rehearsal
DESCRIPTION:
URL:https://ascensioncartersville.org/calendar/st-cecilia-choir-rehearsal-14/
END:VEVENT
BEGIN:VEVENT
DTSTART;TZID=America/New_York:20231213T130000
DTEND;TZID=America/New_York:20231213T140000
DTSTAMP:20260425T074127
CREATED:20230824T223342Z
LAST-MODIFIED:20230824T223342Z
UID:10003074-1702472400-1702476000@ascensioncartersville.org
SUMMARY:Pastoral Care Meeting
DESCRIPTION:
URL:https://ascensioncartersville.org/calendar/pastoral-care-meeting-13/
END:VEVENT
BEGIN:VEVENT
DTSTART;TZID=America/New_York:20231213T130000
DTEND;TZID=America/New_York:20231213T140000
DTSTAMP:20260425T074127
CREATED:20230824T223342Z
LAST-MODIFIED:20230824T223342Z
UID:10003075-1702472400-1702476000@ascensioncartersville.org
SUMMARY:Bible Study
DESCRIPTION:
URL:https://ascensioncartersville.org/calendar/bible-study-14/
END:VEVENT
BEGIN:VEVENT
DTSTART;TZID=America/New_York:20231213T121500
DTEND;TZID=America/New_York:20231213T131500
DTSTAMP:20260425T074127
CREATED:20230726T144249Z
LAST-MODIFIED:20230726T144249Z
UID:10002811-1702469700-1702473300@ascensioncartersville.org
SUMMARY:Holy Eucharist with Healing
DESCRIPTION:
URL:https://ascensioncartersville.org/calendar/holy-eucharist-with-healing-123/
END:VEVENT
BEGIN:VEVENT
DTSTART;TZID=America/New_York:20231213T111500
DTEND;TZID=America/New_York:20231213T121500
DTSTAMP:20260425T074127
CREATED:20231026T194835Z
LAST-MODIFIED:20231026T194835Z
UID:10003259-1702466100-1702469700@ascensioncartersville.org
SUMMARY:Pastoral Care Meeting
DESCRIPTION:
URL:https://ascensioncartersville.org/calendar/pastoral-care-meeting-51/
END:VEVENT
BEGIN:VEVENT
DTSTART;TZID=America/New_York:20231213T111500
DTEND;TZID=America/New_York:20231213T121500
DTSTAMP:20260425T074127
CREATED:20231004T162929Z
LAST-MODIFIED:20231004T162929Z
UID:10003223-1702466100-1702469700@ascensioncartersville.org
SUMMARY:Pastoral Care Meeting
DESCRIPTION:
URL:https://ascensioncartersville.org/calendar/pastoral-care-meeting-35/
END:VEVENT
BEGIN:VEVENT
DTSTART;TZID=America/New_York:20231213T090000
DTEND;TZID=America/New_York:20231213T110000
DTSTAMP:20260425T074127
CREATED:20230726T144248Z
LAST-MODIFIED:20230726T144248Z
UID:10002810-1702458000-1702465200@ascensioncartersville.org
SUMMARY:Red Door Food Pantry
DESCRIPTION:
URL:https://ascensioncartersville.org/calendar/red-door-food-pantry-243/
END:VEVENT
BEGIN:VEVENT
DTSTART;TZID=America/New_York:20231212T183000
DTEND;TZID=America/New_York:20231212T203000
DTSTAMP:20260425T074127
CREATED:20230831T094916Z
LAST-MODIFIED:20230831T094916Z
UID:10003172-1702405800-1702413000@ascensioncartersville.org
SUMMARY:Finance Meeting
DESCRIPTION:
URL:https://ascensioncartersville.org/calendar/finance-meeting-4/
END:VEVENT
BEGIN:VEVENT
DTSTART;TZID=America/New_York:20231212T183000
DTEND;TZID=America/New_York:20231212T203000
DTSTAMP:20260425T074127
CREATED:20230831T094916Z
LAST-MODIFIED:20230831T094916Z
UID:10003173-1702405800-1702413000@ascensioncartersville.org
SUMMARY:Women's Club Christmas Party
DESCRIPTION:Parking at courthouse if church lot full (food pantry)
URL:https://ascensioncartersville.org/calendar/womens-club-christmas-party/
END:VEVENT
BEGIN:VEVENT
DTSTART;TZID=America/New_York:20231212T170000
DTEND;TZID=America/New_York:20231212T190000
DTSTAMP:20260425T074127
CREATED:20230726T144248Z
LAST-MODIFIED:20230726T144248Z
UID:10002809-1702400400-1702407600@ascensioncartersville.org
SUMMARY:Red Door Food Pantry
DESCRIPTION:
URL:https://ascensioncartersville.org/calendar/red-door-food-pantry-242/
END:VEVENT
BEGIN:VEVENT
DTSTART;TZID=America/New_York:20231210T170000
DTEND;TZID=America/New_York:20231210T180000
DTSTAMP:20260425T074127
CREATED:20231116T223222Z
LAST-MODIFIED:20231116T223222Z
UID:10003297-1702227600-1702231200@ascensioncartersville.org
SUMMARY:Blue Christmas Service
DESCRIPTION:
URL:https://ascensioncartersville.org/calendar/blue-christmas-service/
END:VEVENT
BEGIN:VEVENT
DTSTART;TZID=America/New_York:20231210T100000
DTEND;TZID=America/New_York:20231210T110000
DTSTAMP:20260425T074127
CREATED:20230831T094916Z
LAST-MODIFIED:20230831T094916Z
UID:10003171-1702202400-1702206000@ascensioncartersville.org
SUMMARY:Christmas Pageant Rehearsal
DESCRIPTION:
URL:https://ascensioncartersville.org/calendar/christmas-pageant-rehearsal/
END:VEVENT
BEGIN:VEVENT
DTSTART;TZID=America/New_York:20231210T100000
DTEND;TZID=America/New_York:20231210T110000
DTSTAMP:20260425T074127
CREATED:20230726T144248Z
LAST-MODIFIED:20230726T144248Z
UID:10002805-1702202400-1702206000@ascensioncartersville.org
SUMMARY:Christian Formation Hour
DESCRIPTION:
URL:https://ascensioncartersville.org/calendar/christian-formation-hour-102/
END:VEVENT
BEGIN:VEVENT
DTSTART;TZID=America/New_York:20231210T100000
DTEND;TZID=America/New_York:20231210T104500
DTSTAMP:20260425T074127
CREATED:20230831T094916Z
LAST-MODIFIED:20230831T094916Z
UID:10003170-1702202400-1702205100@ascensioncartersville.org
SUMMARY:Canterbury Choir Rehearsal
DESCRIPTION:
URL:https://ascensioncartersville.org/calendar/canterbury-choir-rehearsal-40/
END:VEVENT
BEGIN:VEVENT
DTSTART;TZID=America/New_York:20231210T090000
DTEND;TZID=America/New_York:20231210T100000
DTSTAMP:20260425T074127
CREATED:20230726T144248Z
LAST-MODIFIED:20230726T144248Z
UID:10002806-1702198800-1702202400@ascensioncartersville.org
SUMMARY:Family Service
DESCRIPTION:
URL:https://ascensioncartersville.org/calendar/family-service-102/
END:VEVENT
BEGIN:VEVENT
DTSTART;TZID=America/New_York:20231209T140000
DTEND;TZID=America/New_York:20231209T150000
DTSTAMP:20260425T074127
CREATED:20230804T144609Z
LAST-MODIFIED:20230804T144609Z
UID:10003008-1702130400-1702134000@ascensioncartersville.org
SUMMARY:Ladies Advent Tea
DESCRIPTION:Please contact Marcia or Brenda with any questions
URL:https://ascensioncartersville.org/calendar/ladies-advent-tea-4/
END:VEVENT
BEGIN:VEVENT
DTSTART;TZID=America/New_York:20231209T110000
DTEND;TZID=America/New_York:20231209T120000
DTSTAMP:20260425T074127
CREATED:20230726T144248Z
LAST-MODIFIED:20230726T144248Z
UID:10002808-1702119600-1702123200@ascensioncartersville.org
SUMMARY:Ladies Advent Tea
DESCRIPTION:
URL:https://ascensioncartersville.org/calendar/ladies-advent-tea-3/
END:VEVENT
BEGIN:VEVENT
DTSTART;TZID=America/New_York:20231209T090000
DTEND;TZID=America/New_York:20231209T100000
DTSTAMP:20260425T074127
CREATED:20230831T094916Z
LAST-MODIFIED:20230831T094916Z
UID:10003169-1702112400-1702116000@ascensioncartersville.org
SUMMARY:Men's Breakfast
DESCRIPTION:
URL:https://ascensioncartersville.org/calendar/mens-breakfast-4/
END:VEVENT
BEGIN:VEVENT
DTSTART;TZID=America/New_York:20231208T190000
DTEND;TZID=America/New_York:20231208T210000
DTSTAMP:20260425T074127
CREATED:20230728T133949Z
LAST-MODIFIED:20230728T133949Z
UID:10002999-1702062000-1702069200@ascensioncartersville.org
SUMMARY:Ascension Coffee House
DESCRIPTION:
URL:https://ascensioncartersville.org/calendar/ascension-coffee-house-5/
END:VEVENT
BEGIN:VEVENT
DTSTART;TZID=America/New_York:20231208T113000
DTEND;TZID=America/New_York:20231208T123000
DTSTAMP:20260425T074127
CREATED:20230726T144248Z
LAST-MODIFIED:20230726T144248Z
UID:10002804-1702035000-1702038600@ascensioncartersville.org
SUMMARY:Al-Anon Meeting
DESCRIPTION:Located in the Education room
URL:https://ascensioncartersville.org/calendar/al-anon-meeting-120/
END:VEVENT
BEGIN:VEVENT
DTSTART;TZID=America/New_York:20231207T190000
DTEND;TZID=America/New_York:20231207T200000
DTSTAMP:20260425T074127
CREATED:20230831T094916Z
LAST-MODIFIED:20230831T094916Z
UID:10003168-1701975600-1701979200@ascensioncartersville.org
SUMMARY:Christmas Parade
DESCRIPTION:
URL:https://ascensioncartersville.org/calendar/christmas-parade/
END:VEVENT
END:VCALENDAR