BEGIN:VCALENDAR
VERSION:2.0
PRODID:-//Episcopal Church of the Ascension - ECPv6.15.20//NONSGML v1.0//EN
CALSCALE:GREGORIAN
METHOD:PUBLISH
X-WR-CALNAME:Episcopal Church of the Ascension
X-ORIGINAL-URL:https://ascensioncartersville.org
X-WR-CALDESC:Events for Episcopal Church of the Ascension
REFRESH-INTERVAL;VALUE=DURATION:PT1H
X-Robots-Tag:noindex
X-PUBLISHED-TTL:PT1H
BEGIN:VTIMEZONE
TZID:America/New_York
BEGIN:DAYLIGHT
TZOFFSETFROM:-0500
TZOFFSETTO:-0400
TZNAME:EDT
DTSTART:20240310T070000
END:DAYLIGHT
BEGIN:STANDARD
TZOFFSETFROM:-0400
TZOFFSETTO:-0500
TZNAME:EST
DTSTART:20241103T060000
END:STANDARD
BEGIN:DAYLIGHT
TZOFFSETFROM:-0500
TZOFFSETTO:-0400
TZNAME:EDT
DTSTART:20250309T070000
END:DAYLIGHT
BEGIN:STANDARD
TZOFFSETFROM:-0400
TZOFFSETTO:-0500
TZNAME:EST
DTSTART:20251102T060000
END:STANDARD
BEGIN:DAYLIGHT
TZOFFSETFROM:-0500
TZOFFSETTO:-0400
TZNAME:EDT
DTSTART:20260308T070000
END:DAYLIGHT
BEGIN:STANDARD
TZOFFSETFROM:-0400
TZOFFSETTO:-0500
TZNAME:EST
DTSTART:20261101T060000
END:STANDARD
END:VTIMEZONE
BEGIN:VEVENT
DTSTART;TZID=America/New_York:20251102T074500
DTEND;TZID=America/New_York:20251102T084500
DTSTAMP:20260425T084228
CREATED:20241205T174851Z
LAST-MODIFIED:20241205T174851Z
UID:10004226-1762069500-1762073100@ascensioncartersville.org
SUMMARY:Holy Eucharist
DESCRIPTION:
URL:https://ascensioncartersville.org/calendar/holy-eucharist-191/
END:VEVENT
BEGIN:VEVENT
DTSTART;TZID=America/New_York:20251102T090000
DTEND;TZID=America/New_York:20251102T100000
DTSTAMP:20260425T084228
CREATED:20250520T131516Z
LAST-MODIFIED:20250520T131516Z
UID:10004587-1762074000-1762077600@ascensioncartersville.org
SUMMARY:All Ages Service
DESCRIPTION:
URL:https://ascensioncartersville.org/calendar/all-ages-service-130/
END:VEVENT
BEGIN:VEVENT
DTSTART;TZID=America/New_York:20251102T100000
DTEND;TZID=America/New_York:20251102T104500
DTSTAMP:20260425T084228
CREATED:20250520T131515Z
LAST-MODIFIED:20250520T131515Z
UID:10004586-1762077600-1762080300@ascensioncartersville.org
SUMMARY:Christian Formation -All Ages
DESCRIPTION:
URL:https://ascensioncartersville.org/calendar/christian-formation-all-ages-29/
END:VEVENT
BEGIN:VEVENT
DTSTART;TZID=America/New_York:20251102T110000
DTEND;TZID=America/New_York:20251102T120000
DTSTAMP:20260425T084228
CREATED:20250520T131516Z
LAST-MODIFIED:20250520T131516Z
UID:10004588-1762081200-1762084800@ascensioncartersville.org
SUMMARY:Holy Eucharist
DESCRIPTION:
URL:https://ascensioncartersville.org/calendar/holy-eucharist-248/
END:VEVENT
BEGIN:VEVENT
DTSTART;TZID=America/New_York:20251104T170000
DTEND;TZID=America/New_York:20251104T190000
DTSTAMP:20260425T084228
CREATED:20241205T174851Z
LAST-MODIFIED:20241205T174851Z
UID:10004227-1762275600-1762282800@ascensioncartersville.org
SUMMARY:Red Door Food Pantry
DESCRIPTION:
URL:https://ascensioncartersville.org/calendar/red-door-food-pantry-440/
END:VEVENT
BEGIN:VEVENT
DTSTART;TZID=America/New_York:20251105T090000
DTEND;TZID=America/New_York:20251105T110000
DTSTAMP:20260425T084228
CREATED:20241205T174852Z
LAST-MODIFIED:20241205T174852Z
UID:10004228-1762333200-1762340400@ascensioncartersville.org
SUMMARY:Red Door Food Pantry
DESCRIPTION:
URL:https://ascensioncartersville.org/calendar/red-door-food-pantry-441/
END:VEVENT
BEGIN:VEVENT
DTSTART;TZID=America/New_York:20251105T111500
DTEND;TZID=America/New_York:20251105T121500
DTSTAMP:20260425T084228
CREATED:20250522T133012Z
LAST-MODIFIED:20250522T133012Z
UID:10004589-1762341300-1762344900@ascensioncartersville.org
SUMMARY:1st Pres. Bible Study
DESCRIPTION:
URL:https://ascensioncartersville.org/calendar/1st-pres-bible-study-39/
LOCATION:Ascension classroom
END:VEVENT
BEGIN:VEVENT
DTSTART;TZID=America/New_York:20251105T121500
DTEND;TZID=America/New_York:20251105T131500
DTSTAMP:20260425T084228
CREATED:20250522T133013Z
LAST-MODIFIED:20250522T133013Z
UID:10004590-1762344900-1762348500@ascensioncartersville.org
SUMMARY:Midweek Service
DESCRIPTION:
URL:https://ascensioncartersville.org/calendar/midweek-service-30/
END:VEVENT
BEGIN:VEVENT
DTSTART;TZID=America/New_York:20251105T170000
DTEND;TZID=America/New_York:20251105T174500
DTSTAMP:20260425T084228
CREATED:20250522T133013Z
LAST-MODIFIED:20250522T133013Z
UID:10004591-1762362000-1762364700@ascensioncartersville.org
SUMMARY:St. Cecilia Choir
DESCRIPTION:
URL:https://ascensioncartersville.org/calendar/st-cecilia-choir-22/
END:VEVENT
BEGIN:VEVENT
DTSTART;TZID=America/New_York:20251105T190000
DTEND;TZID=America/New_York:20251105T204500
DTSTAMP:20260425T084228
CREATED:20241205T174852Z
LAST-MODIFIED:20241205T174852Z
UID:10004229-1762369200-1762375500@ascensioncartersville.org
SUMMARY:Canterbury Choir Rehearsal
DESCRIPTION:
URL:https://ascensioncartersville.org/calendar/canterbury-choir-rehearsal-133/
END:VEVENT
BEGIN:VEVENT
DTSTART;TZID=America/New_York:20251106T180000
DTEND;TZID=America/New_York:20251106T193000
DTSTAMP:20260425T084228
CREATED:20241205T174853Z
LAST-MODIFIED:20241205T174853Z
UID:10004230-1762452000-1762457400@ascensioncartersville.org
SUMMARY:Christian Formation Meeting
DESCRIPTION:
URL:https://ascensioncartersville.org/calendar/christian-formation-meeting-29/
END:VEVENT
BEGIN:VEVENT
DTSTART;TZID=America/New_York:20251107T113000
DTEND;TZID=America/New_York:20251107T123000
DTSTAMP:20260425T084228
CREATED:20241205T174853Z
LAST-MODIFIED:20241205T174853Z
UID:10004231-1762515000-1762518600@ascensioncartersville.org
SUMMARY:Al-Anon Meeting
DESCRIPTION:Located in the Education room
URL:https://ascensioncartersville.org/calendar/al-anon-meeting-220/
END:VEVENT
BEGIN:VEVENT
DTSTART;TZID=America/New_York:20251108T090000
DTEND;TZID=America/New_York:20251108T103000
DTSTAMP:20260425T084228
CREATED:20241205T174853Z
LAST-MODIFIED:20241205T174853Z
UID:10004232-1762592400-1762597800@ascensioncartersville.org
SUMMARY:Men's Breakfast
DESCRIPTION:
URL:https://ascensioncartersville.org/calendar/mens-breakfast-26/
LOCATION:Parish Hall
END:VEVENT
BEGIN:VEVENT
DTSTART;TZID=America/New_York:20251108T093000
DTEND;TZID=America/New_York:20251108T113000
DTSTAMP:20260425T084228
CREATED:20250523T133005Z
LAST-MODIFIED:20250523T133005Z
UID:10004592-1762594200-1762601400@ascensioncartersville.org
SUMMARY:Brotherhood of St. Andrew
DESCRIPTION:
URL:https://ascensioncartersville.org/calendar/brotherhood-of-st-andrew-12/
END:VEVENT
BEGIN:VEVENT
DTSTART;TZID=America/New_York:20251109T074500
DTEND;TZID=America/New_York:20251109T084500
DTSTAMP:20260425T084228
CREATED:20241205T174853Z
LAST-MODIFIED:20241205T174853Z
UID:10004233-1762674300-1762677900@ascensioncartersville.org
SUMMARY:Holy Eucharist
DESCRIPTION:
URL:https://ascensioncartersville.org/calendar/holy-eucharist-192/
END:VEVENT
BEGIN:VEVENT
DTSTART;TZID=America/New_York:20251109T090000
DTEND;TZID=America/New_York:20251109T100000
DTSTAMP:20260425T084228
CREATED:20250525T134437Z
LAST-MODIFIED:20250525T134437Z
UID:10004594-1762678800-1762682400@ascensioncartersville.org
SUMMARY:All Ages Service
DESCRIPTION:
URL:https://ascensioncartersville.org/calendar/all-ages-service-131/
END:VEVENT
BEGIN:VEVENT
DTSTART;TZID=America/New_York:20251109T100000
DTEND;TZID=America/New_York:20251109T104500
DTSTAMP:20260425T084228
CREATED:20250524T133417Z
LAST-MODIFIED:20250524T133417Z
UID:10004593-1762682400-1762685100@ascensioncartersville.org
SUMMARY:Christian Formation -All Ages
DESCRIPTION:
URL:https://ascensioncartersville.org/calendar/christian-formation-all-ages-30/
END:VEVENT
BEGIN:VEVENT
DTSTART;TZID=America/New_York:20251109T101500
DTEND;TZID=America/New_York:20251109T111500
DTSTAMP:20260425T084228
CREATED:20250525T134438Z
LAST-MODIFIED:20250525T134438Z
UID:10004596-1762683300-1762686900@ascensioncartersville.org
SUMMARY:St. Cecilia Choir
DESCRIPTION:
URL:https://ascensioncartersville.org/calendar/st-cecilia-choir-23/
END:VEVENT
BEGIN:VEVENT
DTSTART;TZID=America/New_York:20251109T110000
DTEND;TZID=America/New_York:20251109T120000
DTSTAMP:20260425T084228
CREATED:20250525T134437Z
LAST-MODIFIED:20250525T134437Z
UID:10004595-1762686000-1762689600@ascensioncartersville.org
SUMMARY:Holy Eucharist
DESCRIPTION:
URL:https://ascensioncartersville.org/calendar/holy-eucharist-249/
END:VEVENT
BEGIN:VEVENT
DTSTART;TZID=America/New_York:20251111T110000
DTEND;TZID=America/New_York:20251111T120000
DTSTAMP:20260425T084228
CREATED:20250526T134832Z
LAST-MODIFIED:20250526T134832Z
UID:10004597-1762858800-1762862400@ascensioncartersville.org
SUMMARY:"Connect" Meeting
DESCRIPTION:
URL:https://ascensioncartersville.org/calendar/connect-meeting-11/
END:VEVENT
BEGIN:VEVENT
DTSTART;TZID=America/New_York:20251111T170000
DTEND;TZID=America/New_York:20251111T190000
DTSTAMP:20260425T084228
CREATED:20241208T180134Z
LAST-MODIFIED:20241208T180134Z
UID:10004235-1762880400-1762887600@ascensioncartersville.org
SUMMARY:Red Door Food Pantry
DESCRIPTION:
URL:https://ascensioncartersville.org/calendar/red-door-food-pantry-442/
END:VEVENT
BEGIN:VEVENT
DTSTART;TZID=America/New_York:20251112T090000
DTEND;TZID=America/New_York:20251112T110000
DTSTAMP:20260425T084228
CREATED:20241208T180134Z
LAST-MODIFIED:20241208T180134Z
UID:10004236-1762938000-1762945200@ascensioncartersville.org
SUMMARY:Red Door Food Pantry
DESCRIPTION:
URL:https://ascensioncartersville.org/calendar/red-door-food-pantry-443/
END:VEVENT
BEGIN:VEVENT
DTSTART;TZID=America/New_York:20251112T111500
DTEND;TZID=America/New_York:20251112T121500
DTSTAMP:20260425T084228
CREATED:20250529T143308Z
LAST-MODIFIED:20250529T143308Z
UID:10004600-1762946100-1762949700@ascensioncartersville.org
SUMMARY:1st Pres. Bible Study
DESCRIPTION:
URL:https://ascensioncartersville.org/calendar/1st-pres-bible-study-40/
LOCATION:Ascension classroom
END:VEVENT
BEGIN:VEVENT
DTSTART;TZID=America/New_York:20251112T121500
DTEND;TZID=America/New_York:20251112T131500
DTSTAMP:20260425T084228
CREATED:20250528T141816Z
LAST-MODIFIED:20250528T141816Z
UID:10004598-1762949700-1762953300@ascensioncartersville.org
SUMMARY:Midweek Service
DESCRIPTION:
URL:https://ascensioncartersville.org/calendar/midweek-service-31/
END:VEVENT
BEGIN:VEVENT
DTSTART;TZID=America/New_York:20251112T170000
DTEND;TZID=America/New_York:20251112T174500
DTSTAMP:20260425T084228
CREATED:20250529T143308Z
LAST-MODIFIED:20250529T143308Z
UID:10004601-1762966800-1762969500@ascensioncartersville.org
SUMMARY:St. Cecilia Choir
DESCRIPTION:
URL:https://ascensioncartersville.org/calendar/st-cecilia-choir-24/
END:VEVENT
BEGIN:VEVENT
DTSTART;TZID=America/New_York:20251112T190000
DTEND;TZID=America/New_York:20251112T204500
DTSTAMP:20260425T084228
CREATED:20241208T180135Z
LAST-MODIFIED:20241208T180135Z
UID:10004237-1762974000-1762980300@ascensioncartersville.org
SUMMARY:Canterbury Choir Rehearsal
DESCRIPTION:
URL:https://ascensioncartersville.org/calendar/canterbury-choir-rehearsal-134/
END:VEVENT
BEGIN:VEVENT
DTSTART;TZID=America/New_York:20251114T113000
DTEND;TZID=America/New_York:20251114T123000
DTSTAMP:20260425T084228
CREATED:20241209T180156Z
LAST-MODIFIED:20241209T180156Z
UID:10004238-1763119800-1763123400@ascensioncartersville.org
SUMMARY:Al-Anon Meeting
DESCRIPTION:Located in the Education room
URL:https://ascensioncartersville.org/calendar/al-anon-meeting-221/
END:VEVENT
BEGIN:VEVENT
DTSTART;TZID=America/New_York:20251114T190000
DTEND;TZID=America/New_York:20251114T210000
DTSTAMP:20260425T084228
CREATED:20250531T145925Z
LAST-MODIFIED:20250531T145925Z
UID:10004602-1763146800-1763154000@ascensioncartersville.org
SUMMARY:Ascension Coffee House
DESCRIPTION:
URL:https://ascensioncartersville.org/calendar/ascension-coffee-house-27/
END:VEVENT
BEGIN:VEVENT
DTSTART;TZID=America/New_York:20251115T110000
DTEND;TZID=America/New_York:20251115T140000
DTSTAMP:20260425T084228
CREATED:20250531T145925Z
LAST-MODIFIED:20250531T145925Z
UID:10004603-1763204400-1763215200@ascensioncartersville.org
SUMMARY:Altar Guild Luncheon
DESCRIPTION:
URL:https://ascensioncartersville.org/calendar/altar-guild-luncheon/
END:VEVENT
BEGIN:VEVENT
DTSTART;TZID=America/New_York:20251116T074500
DTEND;TZID=America/New_York:20251116T084500
DTSTAMP:20260425T084228
CREATED:20241211T181729Z
LAST-MODIFIED:20241211T181729Z
UID:10004241-1763279100-1763282700@ascensioncartersville.org
SUMMARY:Holy Eucharist
DESCRIPTION:
URL:https://ascensioncartersville.org/calendar/holy-eucharist-193/
END:VEVENT
END:VCALENDAR